BEGIN:VCALENDAR
VERSION:2.0
PRODID:-//Ayuntamiento de Mieres - ECPv5.16.1.1//NONSGML v1.0//EN
CALSCALE:GREGORIAN
METHOD:PUBLISH
X-WR-CALNAME:Ayuntamiento de Mieres
X-ORIGINAL-URL:https://www.mieres.es
X-WR-CALDESC:Eventos para Ayuntamiento de Mieres
BEGIN:VTIMEZONE
TZID:Europe/Madrid
BEGIN:DAYLIGHT
TZOFFSETFROM:+0100
TZOFFSETTO:+0200
TZNAME:CEST
DTSTART:20230326T010000
END:DAYLIGHT
BEGIN:STANDARD
TZOFFSETFROM:+0200
TZOFFSETTO:+0100
TZNAME:CET
DTSTART:20231029T010000
END:STANDARD
END:VTIMEZONE
BEGIN:VEVENT
DTSTART;TZID=Europe/Madrid:20231215T193000
DTEND;TZID=Europe/Madrid:20231215T193000
DTSTAMP:20260421T222624
CREATED:20231205T121105Z
LAST-MODIFIED:20231205T121105Z
UID:65959-1702668600-1702668600@www.mieres.es
SUMMARY:Gala de entrega de los Premios Serondaya a la Innovación Cultural 2023
DESCRIPTION:  \n\nGala de entrega de los \n\nPremios Serondaya a la Innovación Cultural 2023\n\n\nAuditoriu Teodoro Cuesta\nEntrada gratuita hasta completar aforo. \n\n\n\n\n\n  \n\nLa Asociación Cultural Serondaya organiza la gala de entrega de los PREMIOS SERONDAYA A LA INNOVACIÓN CULTURAL 2023\, en sus secciones de Artes\, Letras\, Ciencias de la Cultura Humana y Gastronomía\, que en esta ocasión contará con la actuación especial  La M de Matilde. \nUn año más\, la asociación acude a la cita con la cultura y con la innovación con una nueva convocatoria de estos premios que ya son una referencia en el mundo de la cultura\, no sólo en Asturias\, sino en todo el ámbito nacional. \nLos premios cuentan con el patrocinio del Ayuntamiento de Mieres\, de la Fundación Caja Rural y del Diario El Comercio. Sobre un total de treinta y dos candidaturas procedentes de toda la geografía nacional\, los ganadores han sido los siguientes: \n  \nPremio Artes: \nPrograma de Residencias de la Academia de las Artes y las Ciencias Cinematográficas de España por haber ideado y creado un proyecto dedicado a promover\, fomentar y arropar el desarrollo de nuevas vocaciones cinematográficas. \nPremio Ciencias de la Cultura Humana:  \n Museo “ADOLFO SUÁREZ Y LA TRANSICIÓN” de Cebreros (Ávila)\, por un proyecto que apuesta por la innovación educativa integrando las Humanidades y la Tecnología\, y se conforma como un elemento esencial en la vinculación Ávila-Asturias a través de la Educación. \nPremio de las Letras: \nLibrería Pimiango\, un espacio de continua ebullición cultural\, cruce de caminos alumbrado por las palabras y una referencia del conocimiento que busca combatir la orfandad del mundo rural. \nPremio Gastronomía:  \nXesc Reina Bosch\, maestro charcutero gerundense afincado en Mallorca\, por ampliar el universo gastronómico e innovar de manera exitosa y constante en torno a diversos productos\, y especialmente la sobrasada\, haciendo explotar colores\, sabores y contrastes\, y generando nuevas texturas y maravillosas locuras gastronómicas. \n\n 
URL:https://www.mieres.es/evento/gala-de-entrega-de-los-premios-serondaya-a-la-innovacion-cultural-2023/
LOCATION:Casa de Cultura Teodoro Cuesta\, Calle Manuel Llaneza\, 8\, Mieres\, Asturias\, 33600\, España
CATEGORIES:Arte,Jornadas,Letras,Premios
ATTACH;FMTTYPE=image/jpeg:https://www.mieres.es/wp-content/uploads/2023/12/Serondaya-cartel-Gala-Entrega-Premios-2023-scaled.jpg
ORGANIZER;CN="Asoc.%20Cultural%20Serondaya":MAILTO:acserondaya@gmail.com
GEO:43.2502294;-5.7729571
X-APPLE-STRUCTURED-LOCATION;VALUE=URI;X-ADDRESS=Casa de Cultura Teodoro Cuesta Calle Manuel Llaneza 8 Mieres Asturias 33600 España;X-APPLE-RADIUS=500;X-TITLE=Calle Manuel Llaneza\, 8:geo:-5.7729571,43.2502294
END:VEVENT
END:VCALENDAR