BEGIN:VCALENDAR
VERSION:2.0
PRODID:-//Ayuntamiento de Mieres - ECPv5.16.1.1//NONSGML v1.0//EN
CALSCALE:GREGORIAN
METHOD:PUBLISH
X-WR-CALNAME:Ayuntamiento de Mieres
X-ORIGINAL-URL:https://www.mieres.es
X-WR-CALDESC:Eventos para Ayuntamiento de Mieres
BEGIN:VTIMEZONE
TZID:Europe/Madrid
BEGIN:DAYLIGHT
TZOFFSETFROM:+0100
TZOFFSETTO:+0200
TZNAME:CEST
DTSTART:20240331T010000
END:DAYLIGHT
BEGIN:STANDARD
TZOFFSETFROM:+0200
TZOFFSETTO:+0100
TZNAME:CET
DTSTART:20241027T010000
END:STANDARD
END:VTIMEZONE
BEGIN:VEVENT
DTSTART;TZID=Europe/Madrid:20240123T190000
DTEND;TZID=Europe/Madrid:20240123T190000
DTSTAMP:20260421T211000
CREATED:20240110T110439Z
LAST-MODIFIED:20240117T133217Z
UID:66675-1706036400-1706036400@www.mieres.es
SUMMARY:Presentación del libro: "Situaciones y objetos cotidianos"\, de Chema Terrero
DESCRIPTION:Presentación del libro: \n\nSituaciones y objetos cotidianos\nde Chema Terrero\nOrpheus Ediciones \n\n  \n\nSala juvenil de la Biblioteca Pública de Mieres\nEntrada gratuita hasta completar aforo. \n\n\n\n  \n\n\n¿Qué hacer cuando lo cotidiano se vuelve una pesadilla? ¿Cuando cerrar una puerta\, mirarse en un espejo\, colocar la compra o visitar una ciudad nos descubren la oscuridad? ¿Qué ocurre cuando conmemoramos la maldad? Lo extraño\, lo atroz\, nace de momentos familiares que todos vivimos: viajar en tren\, visitar un centro comercial\, pasar unos días en un hotel de vacaciones. Nace\, y una vez que ocurre\,solo nos resta vivir con ello y\, si acaso\, volvernos nosotros mismos extraños. \n  \n\n\n\n\n 
URL:https://www.mieres.es/evento/presentacion-del-libro-situaciones-y-objetos-cotidianos-de-chema-terrero/
LOCATION:Biblioteca Pública de Mieres\, Calle Manuel Llaneza\, 8\, Mieres\, Asturias\, 33600 \, España
CATEGORIES:Letras
ATTACH;FMTTYPE=image/jpeg:https://www.mieres.es/wp-content/uploads/2024/01/presentacion-libro-chema-terrero.jpeg
GEO:43.2502294;-5.7729571
X-APPLE-STRUCTURED-LOCATION;VALUE=URI;X-ADDRESS=Biblioteca Pública de Mieres Calle Manuel Llaneza 8 Mieres Asturias 33600  España;X-APPLE-RADIUS=500;X-TITLE=Calle Manuel Llaneza\, 8:geo:-5.7729571,43.2502294
END:VEVENT
END:VCALENDAR