BEGIN:VCALENDAR
VERSION:2.0
PRODID:-//Ayuntamiento de Mieres - ECPv5.16.1.1//NONSGML v1.0//EN
CALSCALE:GREGORIAN
METHOD:PUBLISH
X-WR-CALNAME:Ayuntamiento de Mieres
X-ORIGINAL-URL:https://www.mieres.es
X-WR-CALDESC:Eventos para Ayuntamiento de Mieres
BEGIN:VTIMEZONE
TZID:Europe/Madrid
BEGIN:DAYLIGHT
TZOFFSETFROM:+0100
TZOFFSETTO:+0200
TZNAME:CEST
DTSTART:20240331T010000
END:DAYLIGHT
BEGIN:STANDARD
TZOFFSETFROM:+0200
TZOFFSETTO:+0100
TZNAME:CET
DTSTART:20241027T010000
END:STANDARD
END:VTIMEZONE
BEGIN:VEVENT
DTSTART;TZID=Europe/Madrid:20240312T170000
DTEND;TZID=Europe/Madrid:20240312T170000
DTSTAMP:20260421T182749
CREATED:20240304T091710Z
LAST-MODIFIED:20240304T091710Z
UID:67939-1710262800-1710262800@www.mieres.es
SUMMARY:Presentación de los libros: "Hijos de la noche"\, de Alexis Neira\, y "Lola"\, de Core
DESCRIPTION:Presentación de los libros: \n\n“Hijos de la noche”\nde Alexis Neira\n\n“Lola”\nde Core\n\nMartes\, 12 de marzo\, 17:00h. \n\nBiblioteca Pública de Santa Cruz\nEntrada gratuita hasta completar aforo. \n\n\n  \nHijos de la noche\nHijos de la noche no es simplemente un compendio de relatos. Es un viaje por la naturaleza humana a través del misterio\, la fantasía\, el surrealismo\, la música… todo se une para hacernos aún más partícipes de las historias que se van desarrollando.\nLos miedos\, las ilusiones\, sueños\, todo lo que nos hace humanos va discurriendo en la obra casi de una forma mágica que ayuda a hacer esa realidad\, tan esquiva a veces\, un poco más amena\, más cercana\, más soportable.\nHijos de la noche es\, en fin\, un canto al espíritu humano\, a nuestras creaciones que persisten al paso del tiempo\, un grito al mundo sobre nuestros pavores\, nuestras pasiones\, en definitiva\, un canto a la vida aunque esta se nos ponga cuesta arriba. \n\nLola\nSola\, preparada y curiosa\, es perfecta para los toros\, su equipo. Emprende un viaje de vida con su compañero y binomio\, Max\, por el camino construye una vida\, un hogar y una venganza. Ni el ser humano ni el planeta están preparados para que se tome unas copas. Se convierte en la más sutil y profesional\, la más buscada\, amada\, temida y mortal. Amante de la naturaleza y sus soledades consentidas\, nace la leyenda… Lola. \n  \n\n\n\n\n 
URL:https://www.mieres.es/evento/presentacion-de-los-libros-hijos-de-la-noche-de-alexis-neira-y-lola-de-core/
LOCATION:Biblioteca Pública de Santa Cruz\,  Polideportivo Santa Cruz\, 1ª planta. 33612 Mieres (Asturias)\, Santa Cruz\, Asturias\, 33612
CATEGORIES:Letras
ATTACH;FMTTYPE=image/jpeg:https://www.mieres.es/wp-content/uploads/2024/03/presentacion-libros-biblioteca-santa-cruz-scaled.jpg
GEO:43.189207;-5.7668515
X-APPLE-STRUCTURED-LOCATION;VALUE=URI;X-ADDRESS=Biblioteca Pública de Santa Cruz  Polideportivo Santa Cruz 1ª planta. 33612 Mieres (Asturias) Santa Cruz Asturias 33612;X-APPLE-RADIUS=500;X-TITLE=Polideportivo Santa Cruz\, 1ª planta. 33612 Mieres (Asturias):geo:-5.7668515,43.189207
END:VEVENT
END:VCALENDAR