BEGIN:VCALENDAR
VERSION:2.0
PRODID:-//Ayuntamiento de Mieres - ECPv5.16.1.1//NONSGML v1.0//EN
CALSCALE:GREGORIAN
METHOD:PUBLISH
X-WR-CALNAME:Ayuntamiento de Mieres
X-ORIGINAL-URL:https://www.mieres.es
X-WR-CALDESC:Eventos para Ayuntamiento de Mieres
BEGIN:VTIMEZONE
TZID:Europe/Madrid
BEGIN:DAYLIGHT
TZOFFSETFROM:+0100
TZOFFSETTO:+0200
TZNAME:CEST
DTSTART:20240331T010000
END:DAYLIGHT
BEGIN:STANDARD
TZOFFSETFROM:+0200
TZOFFSETTO:+0100
TZNAME:CET
DTSTART:20241027T010000
END:STANDARD
END:VTIMEZONE
BEGIN:VEVENT
DTSTART;TZID=Europe/Madrid:20240411T190000
DTEND;TZID=Europe/Madrid:20240411T190000
DTSTAMP:20260421T173434
CREATED:20240311T094732Z
LAST-MODIFIED:20240311T095558Z
UID:68140-1712862000-1712862000@www.mieres.es
SUMMARY:Presentación del libro: "El país de la desmemoria"\, de Juan Miguel Baquero
DESCRIPTION:Presentación del libro y charla-coloquio: \n\nEl país de la desmemoria. Del genocidio franquista al silencio interminable\nde Juan Miguel Baquero Zurita\nRoca Editorial \n\n  \n\nSalón de actos de la Casa de Cultura Teodoro Cuesta\nEntrada gratuita hasta completar aforo. \n\n\n\n  \n\n\nEn la investigación que titula El país de la desmemoria\, Juan Miguel Baquero utiliza nuevos testimonios\, incontables datos y sincera pasión para denunciar la estrategia de terror desencadenada por Franco desde que dio el golpe de Estado contra la República hasta su muerte. Y da cuenta de lo muchísimo que queda por investigar\, y por juzgar\, sobre las víctimas del franquismo en este país que no quiere hacer frente a la verdad. \nEn su prólogo\, Baltasar Garzón escribe:\n«Me conmueve el niño Alejandro cuya historia cuenta al inicio este libro; le dijeron que cuando los aviones bombardearan se tirase a la cuneta y tapara su cuerpecito con una manta. Como ese niño real\, nuestra sociedad se ha cubierto durante todos estos años con una frágil colcha que\, al ser retirada\, deja ver la cara fea de un régimen franquista que mató\, hizo desaparecer\, humilló\, torturó y encarceló; que robó niños; que asoló con el terror para lograr la sumisión y no levantó la bota hasta bien entrada la década de los 70.» \n  \nJuan Miquel Baquero es periodista\, especialista en Memoria Histórica y Derechos humanos y colaborador habitual de eldiario.es. Autor de El país de la desmemoria (Roca Editorial) y de los libros Las huellas en la tierra y Que fuera mi tierra –reconocido con el Premio Chaves Nogales al mejor libro periodístico del año 2016–\, sobre intervenciones en fosas comunes del franquismo en Andalucía. \n  \n\n\n\n\n 
URL:https://www.mieres.es/evento/presentacion-del-libro-el-pais-de-la-desmemoria-de-juan-miguel-baquero/
LOCATION:Casa de Cultura Teodoro Cuesta\, Calle Manuel Llaneza\, 8\, Mieres\, Asturias\, 33600\, España
CATEGORIES:Letras,Memoria Democrática
ATTACH;FMTTYPE=image/jpeg:https://www.mieres.es/wp-content/uploads/2024/03/PRESENTACION-LIBRO-Pais-desmemoria-2024-scaled.jpg
GEO:43.2502294;-5.7729571
X-APPLE-STRUCTURED-LOCATION;VALUE=URI;X-ADDRESS=Casa de Cultura Teodoro Cuesta Calle Manuel Llaneza 8 Mieres Asturias 33600 España;X-APPLE-RADIUS=500;X-TITLE=Calle Manuel Llaneza\, 8:geo:-5.7729571,43.2502294
END:VEVENT
END:VCALENDAR