BEGIN:VCALENDAR
VERSION:2.0
PRODID:-//Ayuntamiento de Mieres - ECPv5.16.1.1//NONSGML v1.0//EN
CALSCALE:GREGORIAN
METHOD:PUBLISH
X-WR-CALNAME:Ayuntamiento de Mieres
X-ORIGINAL-URL:https://www.mieres.es
X-WR-CALDESC:Eventos para Ayuntamiento de Mieres
BEGIN:VTIMEZONE
TZID:Europe/Madrid
BEGIN:DAYLIGHT
TZOFFSETFROM:+0100
TZOFFSETTO:+0200
TZNAME:CEST
DTSTART:20240331T010000
END:DAYLIGHT
BEGIN:STANDARD
TZOFFSETFROM:+0200
TZOFFSETTO:+0100
TZNAME:CET
DTSTART:20241027T010000
END:STANDARD
END:VTIMEZONE
BEGIN:VEVENT
DTSTART;TZID=Europe/Madrid:20240423T180000
DTEND;TZID=Europe/Madrid:20240423T180000
DTSTAMP:20260421T170247
CREATED:20240418T105812Z
LAST-MODIFIED:20240418T105812Z
UID:68575-1713895200-1713895200@www.mieres.es
SUMMARY:Suelta de libros especial "Día del Libro 2024"
DESCRIPTION:Día del Libro 2024 \nSuelta de libros\nGrupo de Participación Juvenil Mieres \n  \nMartes\, 23 de abril de 2024\,  18:00h. \nVarios espacios del casco urbano \n\n  \nEl próximo martes 23 de Abril\, Día Internacional del Libro\, en el horario habitual del grupo de participación (18:00h)\, realizarán una suelta de libros para darles una segunda vida. Dentro de cada ejemplar escribirán el Instagram del grupo y una nota explicando quienes son y que hace el grupo de participación adolescente del Ayuntamiento. \nLos lugares en los que se van a depositar son: \n\nINMEDIACIONES DEL AYTO\nPARQUE JOVELLANOS\nMAYACINA\nVASCO\nMONUMENTO AL MINERU\nUNIVERSIDAD\nANICETO – LICEO\nREQUEJO\nINMEDIACIONES DE LA PLAZA DE ABASTOS\nPLAZA SAN PEDRO\nCASA CULTURA ( ENTRADA)\n\n 
URL:https://www.mieres.es/evento/suelta-de-libros-especial-dia-del-libro-2024/
LOCATION:Casco urbano\, Mieres del Camín\, Asturias\, 33600\, España
CATEGORIES:Juventud e Infancia,Letras
ATTACH;FMTTYPE=image/jpeg:https://www.mieres.es/wp-content/uploads/2024/04/suelta-de-libros-2024-mieres.jpg
ORGANIZER;CN="Concejal%C3%ADa%20de%20Infancia%20y%20Juventud":MAILTO:oij@ayto-mieres.es
GEO:43.2491037;-5.7747551
END:VEVENT
END:VCALENDAR