BEGIN:VCALENDAR
VERSION:2.0
PRODID:-//Ayuntamiento de Mieres - ECPv5.16.1.1//NONSGML v1.0//EN
CALSCALE:GREGORIAN
METHOD:PUBLISH
X-WR-CALNAME:Ayuntamiento de Mieres
X-ORIGINAL-URL:https://www.mieres.es
X-WR-CALDESC:Eventos para Ayuntamiento de Mieres
BEGIN:VTIMEZONE
TZID:Europe/Madrid
BEGIN:DAYLIGHT
TZOFFSETFROM:+0100
TZOFFSETTO:+0200
TZNAME:CEST
DTSTART:20240331T010000
END:DAYLIGHT
BEGIN:STANDARD
TZOFFSETFROM:+0200
TZOFFSETTO:+0100
TZNAME:CET
DTSTART:20241027T010000
END:STANDARD
END:VTIMEZONE
BEGIN:VEVENT
DTSTART;TZID=Europe/Madrid:20240428T190000
DTEND;TZID=Europe/Madrid:20240428T190000
DTSTAMP:20260421T170146
CREATED:20240418T153321Z
LAST-MODIFIED:20240418T153321Z
UID:68594-1714330800-1714330800@www.mieres.es
SUMMARY:Alderique con Carla Galeote\, "Hablemos de Feminismos"
DESCRIPTION:  \nCharla-coloquio y presentación del libro: \n\nHablemos de Feminismos\nde Carla Galeote\nEdiciones Península \n\n\nSalón de actos de la Casa de Cultura Teodoro Cuesta\nEntrada gratuita hasta completar aforo. \n\n\n\n  \nTestimonio y relato de la tiktoker que arrasa entre la generación Z hablando de política y feminismo.\nNo quiero ser valiente\, quiero ser feminista. \nEstoy harta de ser valiente y\, si estás leyendo esto\, probablemente tú también. Vivimos en un mundo hostil\, donde las mujeres sentimos miedo\, frustración e injusticia a diario. Frente a esta situación solo existe una respuesta: el feminismo. \nEn estas páginas encontrarás un refugio donde sentirte segura\, un lugar donde no tendrás que ahogar tus gritos y\, en definitiva\, una lucha compartida que te necesita. Empodérate\, junta tu voz con la de tantas otras que la alzaron hace tiempo\, reivindica tu espacio y\, sobre todo\, apóyate en tus compañeras. Si estás harta de ser valiente\, sé feminista. \n\n\nCarla Galeote (Lleida\, 2000) es creadora de contenido\, comunicadora y activista feminista. Graduada en Derecho por la Universidad de Lleida\, Galeote es una de las voces jóvenes del movimiento feminista español que amasa cientos de miles de seguidores en sus redes sociales. Es reconocida por su labor en defensa de las nuevas narrativas del feminismo\, aunque también habla sobre derechos humanos\, igualdad\, salud mental y diversidad. En su trayectoria ha colaborado en La Futura Channel\, GenPlayz\, Catalunya Plural\, LoftiCat de Catalunya Ràdio y en el pódcast «La Base»\, de Pablo Iglesias. Ha participado en varios encuentros con reconocidas políticas españolas como Yolanda Díaz\, Irene Montero y Ada Colau. \n  \n\n\n\n\n 
URL:https://www.mieres.es/evento/alderique-con-carla-galeote-hablemos-de-feminismos/
LOCATION:Casa de Cultura Teodoro Cuesta\, Calle Manuel Llaneza\, 8\, Mieres\, Asturias\, 33600\, España
CATEGORIES:Igualdad,Letras
ATTACH;FMTTYPE=image/jpeg:https://www.mieres.es/wp-content/uploads/2024/04/carla-galeote-mieres-2024.jpeg
GEO:43.2502294;-5.7729571
X-APPLE-STRUCTURED-LOCATION;VALUE=URI;X-ADDRESS=Casa de Cultura Teodoro Cuesta Calle Manuel Llaneza 8 Mieres Asturias 33600 España;X-APPLE-RADIUS=500;X-TITLE=Calle Manuel Llaneza\, 8:geo:-5.7729571,43.2502294
END:VEVENT
END:VCALENDAR