BEGIN:VCALENDAR
VERSION:2.0
PRODID:-//Ayuntamiento de Mieres - ECPv5.16.1.1//NONSGML v1.0//EN
CALSCALE:GREGORIAN
METHOD:PUBLISH
X-WR-CALNAME:Ayuntamiento de Mieres
X-ORIGINAL-URL:https://www.mieres.es
X-WR-CALDESC:Eventos para Ayuntamiento de Mieres
BEGIN:VTIMEZONE
TZID:Europe/Madrid
BEGIN:DAYLIGHT
TZOFFSETFROM:+0100
TZOFFSETTO:+0200
TZNAME:CEST
DTSTART:20240331T010000
END:DAYLIGHT
BEGIN:STANDARD
TZOFFSETFROM:+0200
TZOFFSETTO:+0100
TZNAME:CET
DTSTART:20241027T010000
END:STANDARD
END:VTIMEZONE
BEGIN:VEVENT
DTSTART;TZID=Europe/Madrid:20240515T200000
DTEND;TZID=Europe/Madrid:20240515T200000
DTSTAMP:20260421T153958
CREATED:20240507T102703Z
LAST-MODIFIED:20240509T090027Z
UID:68950-1715803200-1715803200@www.mieres.es
SUMMARY:Presentación del libro "El capitalismo no existe”\, de Juan Ponte
DESCRIPTION:Presentación del libro \n“El capitalismo no existe”\,\nde Juan Ponte\n \nPresentado por: \n\nAitana Castaño\, periodista y escritora\nDelia Campomanes\, diputada de Convocatoria por Asturies\n\n  \nTrea Editorial \nMiércoles\, 15 de mayo de 2024. 20:00h. \nSalón de actos de la Casa de Cultura Teodoro Cuesta\nEntrada libre hasta completar aforo \n\nEl libre mercado nunca ha existido ni existirá. La competencia —piensan los neoliberales— es para los perdedores. Lo que buena parte de los empresarios privados desean es que el Estado les garantice privilegios\, prebendas y monopolios: están a favor de la concurrencia competitiva siempre y cuando se les asegure que parten de una situación ventajosa («No me importaría perder todos los partidos\, siempre y cuando ganemos la liga»\, decía el futbolista Mark Viduka). El problema\, para ellos\, no es que el Estado intervenga\, sino que lo haga contra sus intereses. Quieren un Estado fuerte con los débiles y débil con los fuertes. Y planifican\, vaya si planifican. \nLa pretensión de este libro es deshacer algunos de los más consolidados lugares comunes sobre el capitalismo\, a partir de una lectura atenta de la obra de autores como Mises\, Hayek\, Rothbard o incluso el Javier Milei ensayista\, poco habitual en una izquierda en la que se acostumbra a citar de oídas a los pensadores del enemigo. El capitalismo no existe\, concluye provocadoramente Juan Ponte en un ensayo que también hace reconvenciones a la izquierda desde cuyas posiciones se escribe\, y sobre todo una: huyamos de concebir —es habitual que lo hagamos— el cuerpo social de la edad contemporánea como una comunidad orgánica disgregada; como una hostia consagrada rota en mil pedazos por el individualismo capitalista. Este tampoco existe: el capitalismo no nos individualiza\, sino que nos dividualiza. Ponte adopta el consejo de Manuel Sacristán: «La revolución la hacen los seres humanos que hay\, como son. El que quiera armonía celestial\, que se vaya al cielo». \n  \nJuan González Ponte (Oviedo\, 1983) es licenciado en Filosofía por la Universidad de Oviedo. Cursó máster universitario en estudios sociales de la ciencia y la tecnología y el doctorado dentro del programa «Problemas filosóficos del presente». Profesor de filosofía\, fue responsable del Área de Servicios a la Ciudadanía en el Ayuntamiento de Mieres (siendo concejal de Cultura\, Empleo\, Patrimonio\, Turismo\, Festejos y Participación Ciudadana)\, responsable de formación en Izquierda Unida y actualmente es director general de Agenda 2030 en el Principado de Asturias.
URL:https://www.mieres.es/evento/presentacion-del-libro-el-capitalismo-no-existe-de-juan-ponte/
LOCATION:Casa de Cultura Teodoro Cuesta\, Calle Manuel Llaneza\, 8\, Mieres\, Asturias\, 33600\, España
CATEGORIES:Letras
ATTACH;FMTTYPE=image/jpeg:https://www.mieres.es/wp-content/uploads/2024/05/presentacion-libro-Juan-Ponte-Mieres.jpeg
GEO:43.2502294;-5.7729571
X-APPLE-STRUCTURED-LOCATION;VALUE=URI;X-ADDRESS=Casa de Cultura Teodoro Cuesta Calle Manuel Llaneza 8 Mieres Asturias 33600 España;X-APPLE-RADIUS=500;X-TITLE=Calle Manuel Llaneza\, 8:geo:-5.7729571,43.2502294
END:VEVENT
END:VCALENDAR