BEGIN:VCALENDAR
VERSION:2.0
PRODID:-//Ayuntamiento de Mieres - ECPv5.16.1.1//NONSGML v1.0//EN
CALSCALE:GREGORIAN
METHOD:PUBLISH
X-WR-CALNAME:Ayuntamiento de Mieres
X-ORIGINAL-URL:https://www.mieres.es
X-WR-CALDESC:Eventos para Ayuntamiento de Mieres
BEGIN:VTIMEZONE
TZID:Europe/Madrid
BEGIN:DAYLIGHT
TZOFFSETFROM:+0100
TZOFFSETTO:+0200
TZNAME:CEST
DTSTART:20240331T010000
END:DAYLIGHT
BEGIN:STANDARD
TZOFFSETFROM:+0200
TZOFFSETTO:+0100
TZNAME:CET
DTSTART:20241027T010000
END:STANDARD
END:VTIMEZONE
BEGIN:VEVENT
DTSTART;TZID=Europe/Madrid:20240523T190000
DTEND;TZID=Europe/Madrid:20240523T190000
DTSTAMP:20260421T153912
CREATED:20240430T092209Z
LAST-MODIFIED:20240515T114248Z
UID:68812-1716490800-1716490800@www.mieres.es
SUMMARY:Presentación del libro "Estampas de Asturias"\, de Manuel Maurín Álvarez
DESCRIPTION:Presentación del libro \n“Estampas de Asturias”\,\nde Manuel Maurín Álvarez\n \nTrea Editorial \n  \nJueves\, 23 de mayo de 2024. 19:00h. \nSalón de actos de la Casa de Cultura Teodoro Cuesta\nEntrada libre hasta completar aforo \n\n \nLas Estampas de Asturias son una serie de relatos cortos con significado singular y autónomo\, pero cuya lectura conjunta permite también observar como un todo el territorio asturiano en el tránsito desde la sociedad rural tradicional hacia la modernidad urbano-industrial\, con las paradojas\, tensiones y contradicciones que ello conlleva en todos los órdenes.   \nLas referencias al contexto paisajístico\, omnipresente en los relatos\, sirven tanto para realzar la extraordinaria diversidad del mosaico natural y cultural asturiano como para expresar\, en determinados casos\, el diferente grado en que cada lugar se vio afectado por la ola de la revolución industrial y los cambios que trajo aparejados.  \nFundamentados en hechos reales o verosímiles\, los relatos incluyen también\, a veces\, algunas dosis de ficción que abren la posibilidad a interpretaciones heterodoxas de los acontecimientos y el devenir histórico.   \nEl formato de estampa\, al que ya se acercan los textos por su carácter acotado y el recurso a los encuadres escénicos\, se acompaña con composiciones figurativas que complementan y refuerzan cada relato o alguna de sus partes significativas.  \n   \nManuel Maurín Álvarez (Villablino\, León\, 1958) es profesor titular de Análisis Geográfico Regional de la Universidad de Oviedo con una dilatada actividad en la enseñanza de la Geografía de Asturias y en el análisis de los recursos naturales\, el patrimonio cultural\, el territorio y el paisaje. En esos campos sus numerosas publicaciones han estado revestidas de un carácter académico y circunscritas al formato y las metodologías propias de la  investigación o la divulgación científica\, por lo que las Estampas de Asturias suponen  en su caso una novedad al atravesar\, por primera vez y premeditadamente\, la frontera que separa la ciencia y la literatura\, abriendo un campo transversal y común a ambas esferas.
URL:https://www.mieres.es/evento/presentacion-del-libro-estampas-de-asturias-de-manuel-maurin-alvarez-2/
LOCATION:Casa de Cultura Teodoro Cuesta\, Calle Manuel Llaneza\, 8\, Mieres\, Asturias\, 33600\, España
CATEGORIES:Letras
ATTACH;FMTTYPE=image/jpeg:https://www.mieres.es/wp-content/uploads/2024/05/maurin-estampas-asturias.jpeg
GEO:43.2502294;-5.7729571
X-APPLE-STRUCTURED-LOCATION;VALUE=URI;X-ADDRESS=Casa de Cultura Teodoro Cuesta Calle Manuel Llaneza 8 Mieres Asturias 33600 España;X-APPLE-RADIUS=500;X-TITLE=Calle Manuel Llaneza\, 8:geo:-5.7729571,43.2502294
END:VEVENT
END:VCALENDAR