BEGIN:VCALENDAR
VERSION:2.0
PRODID:-//Ayuntamiento de Mieres - ECPv5.16.1.1//NONSGML v1.0//EN
CALSCALE:GREGORIAN
METHOD:PUBLISH
X-WR-CALNAME:Ayuntamiento de Mieres
X-ORIGINAL-URL:https://www.mieres.es
X-WR-CALDESC:Eventos para Ayuntamiento de Mieres
BEGIN:VTIMEZONE
TZID:Europe/Madrid
BEGIN:DAYLIGHT
TZOFFSETFROM:+0100
TZOFFSETTO:+0200
TZNAME:CEST
DTSTART:20240331T010000
END:DAYLIGHT
BEGIN:STANDARD
TZOFFSETFROM:+0200
TZOFFSETTO:+0100
TZNAME:CET
DTSTART:20241027T010000
END:STANDARD
END:VTIMEZONE
BEGIN:VEVENT
DTSTART;TZID=Europe/Madrid:20240528T193000
DTEND;TZID=Europe/Madrid:20240528T193000
DTSTAMP:20260421T141953
CREATED:20240430T092746Z
LAST-MODIFIED:20240521T112434Z
UID:68810-1716924600-1716924600@www.mieres.es
SUMMARY:Presentación del libro: "Dicen en el condado de Harlan"\, de Alessandro Portelli
DESCRIPTION:Presentación del libro y charla-coloquio: \n\nDicen en el condado de Harlan\nde Alessandro Portelli\nPresentado por Rubén Vega \n\n  \n\nSalón de actos de la Casa de Cultura Teodoro Cuesta\nEntrada gratuita hasta completar aforo \n\n\n\n  \n\n\nEl condado de Harlan (Kentucky) es famoso por los resonantes episodios protagonizados por sus mineros\, que han sido filmados\, cantados\, novelados e historiados en multitud de ocasiones\, situando a esta pequeña población de los Apalaches en el imaginario de la cultura popular norteamericana. El rasgo definitorio viene dado por sus mineros\, y muy particularmente\, por las luchas sociales que protagonizaron y que\, en varias ocasiones\, como las dramáticas huelgas de los años treinta y setenta\, alcanzaron eco en todo el país. Esa fue la razón que condujo a Alessandro Portelli a viajar hasta Harlan\, dando inicio a una larga e intensa relación personal y profesional. De ahí ha nacido Dicen en el condado de Harlan\, que\, más que un libro sobre mineros del carbón\, es un diálogo polifónico con más de un centenar y medio de voces de Harlan que cuentan la historia y la memoria de la que son portadores. \nPortelli (una autoridad mundial en Historia Oral) se basa en largos años de conversaciones y entrevistas para rescatar los relatos de una comunidad minera en la que hombres y mujeres\, dentro o fuera de las minas\, han vivido\, trabajado\, sufrido\, luchado y soñado. El hilo narrativo del libro se estructura sobre un vívido montaje de todas estas voces entretejidas con documentos de archivos\, periódicos\, obras literarias y la propia voz participativa y crítica del autor. Con intensa inmediatez emocional\, cuenta la historia vivida de una cultura\, la resiliencia de su gente y los costos humanos de la minería del carbón. \nA través de este lugar simbólico del que se narra el asentamiento de los pioneros\, la guerra civil\, la esclavitud\, la industrialización\, la inmigración\, el conflicto laboral\, el cambio tecnológico\, la migración\, la minería a cielo abierto\, las crisis ambientales y sociales y la resistencia\, Portelli conecta con la historia de los Estados Unidos de un modo que permite al mismo tiempo que cualquier cuenca minera de cualquier otro lugar del mundo se vea en cierta medida representada o reflejada. Del anclaje en un lugar tan concreto y singular como Harlan emerge la poderosa evidencia de que toda historia local es a la vez global\, como esta edición muestra al ofrecer la obra a los lectores en lengua española. \n\n\n  \n\n\n\n\n 
URL:https://www.mieres.es/evento/presentacion-del-libro-dicen-en-el-condado-de-harlan-de-alessandro-portelli/
LOCATION:Casa de Cultura Teodoro Cuesta\, Calle Manuel Llaneza\, 8\, Mieres\, Asturias\, 33600\, España
CATEGORIES:Letras,Memoria Democrática
ATTACH;FMTTYPE=image/jpeg:https://www.mieres.es/wp-content/uploads/2024/04/dicen-condado-harlan-mieres-2024.jpeg
GEO:43.2502294;-5.7729571
X-APPLE-STRUCTURED-LOCATION;VALUE=URI;X-ADDRESS=Casa de Cultura Teodoro Cuesta Calle Manuel Llaneza 8 Mieres Asturias 33600 España;X-APPLE-RADIUS=500;X-TITLE=Calle Manuel Llaneza\, 8:geo:-5.7729571,43.2502294
END:VEVENT
END:VCALENDAR