BEGIN:VCALENDAR
VERSION:2.0
PRODID:-//Ayuntamiento de Mieres - ECPv5.16.1.1//NONSGML v1.0//EN
CALSCALE:GREGORIAN
METHOD:PUBLISH
X-WR-CALNAME:Ayuntamiento de Mieres
X-ORIGINAL-URL:https://www.mieres.es
X-WR-CALDESC:Eventos para Ayuntamiento de Mieres
BEGIN:VTIMEZONE
TZID:Europe/Madrid
BEGIN:DAYLIGHT
TZOFFSETFROM:+0100
TZOFFSETTO:+0200
TZNAME:CEST
DTSTART:20220327T010000
END:DAYLIGHT
BEGIN:STANDARD
TZOFFSETFROM:+0200
TZOFFSETTO:+0100
TZNAME:CET
DTSTART:20221030T010000
END:STANDARD
END:VTIMEZONE
BEGIN:VEVENT
DTSTART;TZID=Europe/Madrid:20220531T183000
DTEND;TZID=Europe/Madrid:20220531T183000
DTSTAMP:20260422T093238
CREATED:20220511T124915Z
LAST-MODIFIED:20220511T124915Z
UID:53612-1654021800-1654021800@www.mieres.es
SUMMARY:Charla informativa sobre Tenencia Animal
DESCRIPTION:Charla-coloquio: \nCharla informativa sobre Tenencia Animal\n\nA cargo de Paulino Fernández González\ngestor y responsable del Albergue Municipal de Animales de Mieres “Tono Ambrosio” \n\n  \n\nAuditoriu Teodoro Cuesta\nEntrada gratuita hasta completar aforo. \n\n\n  \nEl Ayuntamiento de Mieres está realizando una Campaña de sensibilización ciudadana en relación a la TENENCIA DE ANIMALES\, con la finalidad de garantizar una tenencia de los mismos responsable y respetuosa con los derechos de los animales y evitar abandonos\, así como de establecer principios de convivencia ciudadana de cara a asegurar que su presencia o sus hábitos no resulten dañinos para el resto de la comunidad (y en especial para la higiene\, el ornato y la seguridad de la ciudad). \nDentro de las actuaciones que se incluyen en dicha campaña\, el martes 31 de mayo se impartirá una charla sobre este tema a cargo de D. Paulino Fernández Gutiérrez\, actual gestor y responsable del Albergue Municipal de Animales de Mieres “Tono Ambrosio”\, en la que se tratarán todos estos asuntos relativos a los animales de compañía (responsabilidades\, obligaciones\, fomento de conductas cívicas…) y se podrán resolver todas aquellas dudas que se planteen al respecto. \n  \n\n 
URL:https://www.mieres.es/evento/charla-informativa-sobre-tenencia-animal/
LOCATION:Casa de Cultura Teodoro Cuesta\, Calle Manuel Llaneza\, 8\, Mieres\, Asturias\, 33600\, España
CATEGORIES:Charlas-coloquio,Medio Ambiente
ATTACH;FMTTYPE=image/jpeg:https://www.mieres.es/wp-content/uploads/2022/05/Charla-tenencia-Animal-Mieres-2022.jpg
GEO:43.2502294;-5.7729571
X-APPLE-STRUCTURED-LOCATION;VALUE=URI;X-ADDRESS=Casa de Cultura Teodoro Cuesta Calle Manuel Llaneza 8 Mieres Asturias 33600 España;X-APPLE-RADIUS=500;X-TITLE=Calle Manuel Llaneza\, 8:geo:-5.7729571,43.2502294
END:VEVENT
END:VCALENDAR