BEGIN:VCALENDAR
VERSION:2.0
PRODID:-//Ayuntamiento de Mieres - ECPv5.16.1.1//NONSGML v1.0//EN
CALSCALE:GREGORIAN
METHOD:PUBLISH
X-WR-CALNAME:Ayuntamiento de Mieres
X-ORIGINAL-URL:https://www.mieres.es
X-WR-CALDESC:Eventos para Ayuntamiento de Mieres
BEGIN:VTIMEZONE
TZID:Europe/Madrid
BEGIN:DAYLIGHT
TZOFFSETFROM:+0100
TZOFFSETTO:+0200
TZNAME:CEST
DTSTART:20230326T010000
END:DAYLIGHT
BEGIN:STANDARD
TZOFFSETFROM:+0200
TZOFFSETTO:+0100
TZNAME:CET
DTSTART:20231029T010000
END:STANDARD
END:VTIMEZONE
BEGIN:VEVENT
DTSTART;TZID=Europe/Madrid:20230329T200000
DTEND;TZID=Europe/Madrid:20230329T200000
DTSTAMP:20260421T184813
CREATED:20230317T165142Z
LAST-MODIFIED:20230317T165142Z
UID:61927-1680120000-1680120000@www.mieres.es
SUMMARY:Mesa redonda: Día Mundial del Agua. Recurso natural escaso
DESCRIPTION:Mesa redonda: \n\nDía Mundial del Agua. Recurso natural escaso\nCon la participación de:\n— José Carlos Rubio Fernández. Decano del Colegio Oficial de Químicos de Asturias y León.\n— Rodolfo Espina Valdés. Profesor del Área de Ingeniería Hidráulica de la Universidad de Oviedo. \nCoordina: Sergio Gutiérrez. Concejal de Medio Ambiente\, Ilmo. Ayuntamiento de Mieres. \n\n  \n\nSala Juvenil de la Biblioteca Pública de Mieres\nEntrada libre hasta completar aforo. \n(Se regalará un filtro reductor de agua a todos/as los/as astistentes. \n\n\n\n  \nLa temática de esta mesa redonda se centrará en abordar las diferentes problemáticas que se plantean en el escenario global del cambio climático al que se está asistiendo\, a través de un enfoque poliédrico\, en el que intervienen diferentes factores bióticos y antrópicos. Para ello se estructurará el acto en tres partes\, una conclusión y finalmente un espacio para la intervención del público: \n\nContexto actual del agua dulce en el planeta. En este apartado cada ponente\, desde su perspectiva profesional y académica realizará un breve análisis del momento actual en el que se encuentra el acceso al dulce por parte de las comunidades humanas que habitan el planeta.\nPerspectivas a medio plazo de los recursos de agua dulce. El impacto de las sequías. Se abordará de manera sintética\, la escasez a la que se aboca el recurso más importante para la supervivencia de los seres vivos. Su impacto económico\, social y desde el punto de vista del medio físico.\nEl papel de las infraestructuras del transporte hídrico. En las últimas décadas se ha experimentado una evolución constante en el desarrollo tecnológico de materiales más resistentes\, menos perjudiciales para la salud y que han permitido llegar a más personas el agua a sus hogares. Cada vez\, supone un mayor reto garantizar el abastecimiento de agua a mayores regiones del globo\, donde la disminución significativa de precipitaciones ha puesto en jaque el desarrollo de los sistemas productivos agrícolas\, industriales y los cada vez más ligado al sector servicios en el ámbito del turismo. ¿Se pueden continuar manteniendo algunas actividades económicas que exigen de enormes cantidades de abastecimiento de agua\, en zonas que sufren de forma cada vez más constante los periodos de sequía?\n\nAsturias\, una Comunidad Autónoma que forma parte del Clima Oceánico Atlántico\, caracterizada por un régimen de precipitaciones\, que garantiza el abastecimiento de la población\, y del conjunto de las actividades industriales\, viene experimentado en los últimos años un descenso paulatino en el registro de precipitaciones\, asimismo un aumento significativo de las temperaturas en periodo estival y fuera del mismo. Algunos expertos han indicado que en las próximas décadas pueden producirse cambios importantes en las especies vegetales que predominan nuestra región\, por sustitución de otras que permitan amoldarse mejor a un clima más cálido ¿Nos enfrentamos a medio plazo a un problema real de periodos de sequía que pongan en jaque a algunas actividades económicas que se desarrollan en la actualidad? ¿Qué consecuencias puede tener esto en Asturias? \nEn la parte final de la mesa redonda\, se reservará un especio de tiempo destinado a preguntas de las/los asistentes al acto. \n  \n\n 
URL:https://www.mieres.es/evento/mesa-redonda-dia-mundial-del-agua-recurso-natural-escaso/
LOCATION:Casa de Cultura Teodoro Cuesta\, Calle Manuel Llaneza\, 8\, Mieres\, Asturias\, 33600\, España
CATEGORIES:Charlas-coloquio,Medio Ambiente
ATTACH;FMTTYPE=image/jpeg:https://www.mieres.es/wp-content/uploads/2023/03/cartel-dia-mundial-agua-mieres-2023.jpeg
GEO:43.2502294;-5.7729571
X-APPLE-STRUCTURED-LOCATION;VALUE=URI;X-ADDRESS=Casa de Cultura Teodoro Cuesta Calle Manuel Llaneza 8 Mieres Asturias 33600 España;X-APPLE-RADIUS=500;X-TITLE=Calle Manuel Llaneza\, 8:geo:-5.7729571,43.2502294
END:VEVENT
END:VCALENDAR