BEGIN:VCALENDAR
VERSION:2.0
PRODID:-//Ayuntamiento de Mieres - ECPv5.16.1.1//NONSGML v1.0//EN
CALSCALE:GREGORIAN
METHOD:PUBLISH
X-WR-CALNAME:Ayuntamiento de Mieres
X-ORIGINAL-URL:https://www.mieres.es
X-WR-CALDESC:Eventos para Ayuntamiento de Mieres
BEGIN:VTIMEZONE
TZID:Europe/Madrid
BEGIN:DAYLIGHT
TZOFFSETFROM:+0100
TZOFFSETTO:+0200
TZNAME:CEST
DTSTART:20230326T010000
END:DAYLIGHT
BEGIN:STANDARD
TZOFFSETFROM:+0200
TZOFFSETTO:+0100
TZNAME:CET
DTSTART:20231029T010000
END:STANDARD
END:VTIMEZONE
BEGIN:VEVENT
DTSTART;TZID=Europe/Madrid:20230922T153000
DTEND;TZID=Europe/Madrid:20230922T193000
DTSTAMP:20260421T121206
CREATED:20230907T104116Z
LAST-MODIFIED:20230907T112958Z
UID:64317-1695396600-1695411000@www.mieres.es
SUMMARY:Semana Europea de la Movilidad. Día Internacional sin coche 2023
DESCRIPTION:SEMANA EUROPEA DE LA MOVILIDAD 2023 \nViernes 22 de septiembre\nDÍA INTERNACIONAL SIN COCHE\nDeporte en la calle\, actividades de educación vial\, corte de calle Manuel Llaneza\, autobuses gratuitos todo el día\n\nCorte de calle Manuel Llaneza de 15:30 a 19:30h.\nDeporte en la calle:\n16:30h Baloncesto\, Karts\, Hockey\, Balonmano… \nEn el Parque Xovellanos:\n17:30h Prueba de Trial-Bike\n19:30h Exhibición de Trial-Bike con Javi Alonso \nEn el Paseo Vasco-Mayacina:\n16:30h Circuito de bicis eléctricas \n\n  \nLa Semana Europea de la Movilidad es la principal campaña de sensibilización de la Comisión Europea sobre movilidad urbana sostenible. Fomenta el cambio de comportamiento a favor de la movilidad activa\, el transporte público y otras soluciones de transporte limpias e inteligentes. El tema anual para este año 2023 es “¡Combina y muévete!” y tiene como objetivo sensibilizar\, tanto a los responsables políticos como a los ciudadanos\, sobre los beneficios tanto para la salud pública como para el medio ambiente asociados al uso de modos de transporte más sostenibles\, en particular\, el transporte público\, la bicicleta y los desplazamientos a pie.. Con más pueblos y ciudades uniéndose cada año\, la campaña continúa impulsando a Europa\, hacia la movilidad urbana sostenible. \nEn esta semana\, organizada alrededor del Día sin coches\, que se celebra el día 22 de septiembre\, se organizan diferentes actividades para fomentar el transporte público y la recuperación de espacios para peatones y ciclistas. \nNuestro concejo se ha sumado a esta iniciativa con dos interesantes rutas una a pie y otra en bicicleta eléctrica\, una representación teatral-monólogo “Un mundo feliz. Eficiencia energética”\, a cargo del actor y cómico Alberto Rodríguez\, junto con toda una serie de actividades de educación vial y contacto con la calle vacía de coches en este Día sin coches y con la iniciativa de EMUTSA\, que permitirá el uso gratuito de todos sus autobuses a lo largo de ese día 22. \n 
URL:https://www.mieres.es/evento/semana-europea-de-la-movilidad-dia-internacional-sin-coche-2023/
LOCATION:C/ Manuel Llaneza
CATEGORIES:Jornadas,Medio Ambiente
ATTACH;FMTTYPE=image/jpeg:https://www.mieres.es/wp-content/uploads/2023/09/Dia-internacional-sin-coche-2023-scaled.jpg
END:VEVENT
END:VCALENDAR