BEGIN:VCALENDAR
VERSION:2.0
PRODID:-//Ayuntamiento de Mieres - ECPv5.16.1.1//NONSGML v1.0//EN
CALSCALE:GREGORIAN
METHOD:PUBLISH
X-WR-CALNAME:Ayuntamiento de Mieres
X-ORIGINAL-URL:https://www.mieres.es
X-WR-CALDESC:Eventos para Ayuntamiento de Mieres
BEGIN:VTIMEZONE
TZID:Europe/Madrid
BEGIN:DAYLIGHT
TZOFFSETFROM:+0100
TZOFFSETTO:+0200
TZNAME:CEST
DTSTART:20240331T010000
END:DAYLIGHT
BEGIN:STANDARD
TZOFFSETFROM:+0200
TZOFFSETTO:+0100
TZNAME:CET
DTSTART:20241027T010000
END:STANDARD
END:VTIMEZONE
BEGIN:VEVENT
DTSTART;TZID=Europe/Madrid:20240630T120000
DTEND;TZID=Europe/Madrid:20240630T120000
DTSTAMP:20260424T235445
CREATED:20240701T060320Z
LAST-MODIFIED:20240701T060320Z
UID:69791-1719748800-1719748800@www.mieres.es
SUMMARY:Campaña "Adopta y no compres". Albergue Municipal de Animales
DESCRIPTION:Campaña “Adopta y no compres”\nLas mascotas del Albergue Municipal “Tono Ambrosio” salen al encuentro de posibles adopciones \n30 de junio\, a partir de las 12:00h \nParque Xovellanos
URL:https://www.mieres.es/evento/campana-adopta-y-no-compres-albergue-municipal-de-animales/
LOCATION:Parque Xovellanos\, Parque Xovellanos\, Mieres\, Asturias\, 33600 
CATEGORIES:Medio Ambiente
ATTACH;FMTTYPE=image/jpeg:https://www.mieres.es/wp-content/uploads/2024/07/Cartel-adopta-no-compres-junio-2024.jpeg
GEO:43.2517322;-5.7764018
X-APPLE-STRUCTURED-LOCATION;VALUE=URI;X-ADDRESS=Parque Xovellanos Parque Xovellanos Mieres Asturias 33600;X-APPLE-RADIUS=500;X-TITLE=Parque Xovellanos:geo:-5.7764018,43.2517322
END:VEVENT
END:VCALENDAR