BEGIN:VCALENDAR
VERSION:2.0
PRODID:-//Ayuntamiento de Mieres - ECPv5.16.1.1//NONSGML v1.0//EN
CALSCALE:GREGORIAN
METHOD:PUBLISH
X-WR-CALNAME:Ayuntamiento de Mieres
X-ORIGINAL-URL:https://www.mieres.es
X-WR-CALDESC:Eventos para Ayuntamiento de Mieres
BEGIN:VTIMEZONE
TZID:Europe/Madrid
BEGIN:DAYLIGHT
TZOFFSETFROM:+0100
TZOFFSETTO:+0200
TZNAME:CEST
DTSTART:20220327T010000
END:DAYLIGHT
BEGIN:STANDARD
TZOFFSETFROM:+0200
TZOFFSETTO:+0100
TZNAME:CET
DTSTART:20221030T010000
END:STANDARD
END:VTIMEZONE
BEGIN:VEVENT
DTSTART;VALUE=DATE:20220605
DTEND;VALUE=DATE:20220606
DTSTAMP:20260425T221212
CREATED:20220526T082952Z
LAST-MODIFIED:20220603T113051Z
UID:53840-1654387200-1654473599@www.mieres.es
SUMMARY:Festival d'Andecha Vecinal 'Horru y Solhorru' (APLAZADO)
DESCRIPTION:(Aplazado por la organización\, por previsiones meteorológicas desfavorables)\n \n\n\nFestival d’Andecha Vecinal\nHorru y Solhorru\n  \nDomingo\, 5 de junio 2022 \nGal.legos \nInscripciones en: gallegosasociacion@gmail.com \nEntama: Pueblu de Gal.legos – Concejalía de Participación Ciudadana\nCol sofitu de Asociación los Glayos \n\n  \nPrograma: \n\nTodo el día: Arte Andecha. Intervención artística pel pueblu\n16:30h  Yincana pa la reciella. Xuegos tradicionales\n18:00h  Risoterapia. Que falta nos fai\n19:30h  Tresmisión cultural oral. Poemes\, cuentos y cancios\n\n  \n\n 
URL:https://www.mieres.es/evento/festival-dandecha-vecinal-horru-y-solhorru/
LOCATION:Gallegos\, Lugar Gallegos\, 33615
CATEGORIES:Participación Ciudadana
ATTACH;FMTTYPE=image/jpeg:https://www.mieres.es/wp-content/uploads/2022/05/horru-y-solhorru-gallegos-junio-2022.jpg
END:VEVENT
END:VCALENDAR