BEGIN:VCALENDAR
VERSION:2.0
PRODID:-//Ayuntamiento de Mieres - ECPv5.16.1.1//NONSGML v1.0//EN
CALSCALE:GREGORIAN
METHOD:PUBLISH
X-WR-CALNAME:Ayuntamiento de Mieres
X-ORIGINAL-URL:https://www.mieres.es
X-WR-CALDESC:Eventos para Ayuntamiento de Mieres
BEGIN:VTIMEZONE
TZID:Europe/Madrid
BEGIN:DAYLIGHT
TZOFFSETFROM:+0100
TZOFFSETTO:+0200
TZNAME:CEST
DTSTART:20240331T010000
END:DAYLIGHT
BEGIN:STANDARD
TZOFFSETFROM:+0200
TZOFFSETTO:+0100
TZNAME:CET
DTSTART:20241027T010000
END:STANDARD
END:VTIMEZONE
BEGIN:VEVENT
DTSTART;TZID=Europe/Madrid:20240930T190000
DTEND;TZID=Europe/Madrid:20240930T190000
DTSTAMP:20260422T055619
CREATED:20240917T122649Z
LAST-MODIFIED:20240917T122649Z
UID:70492-1727722800-1727722800@www.mieres.es
SUMMARY:Exposición fotográfica:  "El voluntariado en imágenes" (30SET/06OCT) y Charla "Beneficios del voluntariado para la salud"
DESCRIPTION:Exposición fotográfica: \nEl voluntariado en imágenes\n\nHall de la Casa de Cultura Teodoro Cuesta\,\ndel 30 de septiembre al 6 de octubre de 2024 \nHorario: de 12.00 a 14.00 y de 17:00 a 21:00\, de lunes a viernes \nEntrada libre \n  \nCharla-Coloquio: \nBeneficios del voluntariado para la salud\nLunes\, 30 de septiembre\, 19:00h \nSalón de actos de la casa de Cultura Teodoro Cuesta \nEntrada libre \n\n  \n 
URL:https://www.mieres.es/evento/exposicion-fotografica-el-voluntariado-en-imagenes-30set-06oct-y-charla-beneficios-del-voluntariado-para-la-salud/
LOCATION:Casa de Cultura Teodoro Cuesta\, Calle Manuel Llaneza\, 8\, Mieres\, Asturias\, 33600\, España
CATEGORIES:Exposiciones,Participación Ciudadana
ATTACH;FMTTYPE=image/jpeg:https://www.mieres.es/wp-content/uploads/2024/09/Cartel-Voluntariado-y-salud1-scaled.jpg
GEO:43.2502294;-5.7729571
X-APPLE-STRUCTURED-LOCATION;VALUE=URI;X-ADDRESS=Casa de Cultura Teodoro Cuesta Calle Manuel Llaneza 8 Mieres Asturias 33600 España;X-APPLE-RADIUS=500;X-TITLE=Calle Manuel Llaneza\, 8:geo:-5.7729571,43.2502294
END:VEVENT
END:VCALENDAR