BEGIN:VCALENDAR
VERSION:2.0
PRODID:-//Ayuntamiento de Mieres - ECPv5.16.1.1//NONSGML v1.0//EN
CALSCALE:GREGORIAN
METHOD:PUBLISH
X-WR-CALNAME:Ayuntamiento de Mieres
X-ORIGINAL-URL:https://www.mieres.es
X-WR-CALDESC:Eventos para Ayuntamiento de Mieres
BEGIN:VTIMEZONE
TZID:Europe/Madrid
BEGIN:DAYLIGHT
TZOFFSETFROM:+0100
TZOFFSETTO:+0200
TZNAME:CEST
DTSTART:20240331T010000
END:DAYLIGHT
BEGIN:STANDARD
TZOFFSETFROM:+0200
TZOFFSETTO:+0100
TZNAME:CET
DTSTART:20241027T010000
END:STANDARD
END:VTIMEZONE
BEGIN:VEVENT
DTSTART;TZID=Europe/Madrid:20241006T110000
DTEND;TZID=Europe/Madrid:20241006T143000
DTSTAMP:20260422T055712
CREATED:20240917T120915Z
LAST-MODIFIED:20240917T120915Z
UID:70489-1728212400-1728225000@www.mieres.es
SUMMARY:I Feria del Voluntariado y Asociaciones
DESCRIPTION:Encuentros-Talleres \n\nI Feria del Voluntariado y Asociaciones\n\n  \nDomingo\, 6 de octubre\, de 11:00 a 14:30h. \nParque Xovellanos \n  \n\n  \nLas asociaciones con voluntariado social del concejo más el grupo de Participación Juvenil del Ayuntamiento\, ofrecerán información a la ciudadanía de las distintas acciones de voluntariado que realizan y/o necesitan. \n  \n\n 
URL:https://www.mieres.es/evento/i-feria-del-voluntariado-y-asociaciones/
LOCATION:Parque Xovellanos\, Parque Xovellanos\, Mieres\, Asturias\, 33600 
CATEGORIES:Feria,Participación Ciudadana
ATTACH;FMTTYPE=image/jpeg:https://www.mieres.es/wp-content/uploads/2024/09/Cartel-feria6_10-Voluntariado.jpg
GEO:43.2517322;-5.7764018
X-APPLE-STRUCTURED-LOCATION;VALUE=URI;X-ADDRESS=Parque Xovellanos Parque Xovellanos Mieres Asturias 33600;X-APPLE-RADIUS=500;X-TITLE=Parque Xovellanos:geo:-5.7764018,43.2517322
END:VEVENT
END:VCALENDAR