BEGIN:VCALENDAR
VERSION:2.0
PRODID:-//Ayuntamiento de Mieres - ECPv5.16.1.1//NONSGML v1.0//EN
CALSCALE:GREGORIAN
METHOD:PUBLISH
X-WR-CALNAME:Ayuntamiento de Mieres
X-ORIGINAL-URL:https://www.mieres.es
X-WR-CALDESC:Eventos para Ayuntamiento de Mieres
BEGIN:VTIMEZONE
TZID:Europe/Madrid
BEGIN:DAYLIGHT
TZOFFSETFROM:+0100
TZOFFSETTO:+0200
TZNAME:CEST
DTSTART:20250330T010000
END:DAYLIGHT
BEGIN:STANDARD
TZOFFSETFROM:+0200
TZOFFSETTO:+0100
TZNAME:CET
DTSTART:20251026T010000
END:STANDARD
END:VTIMEZONE
BEGIN:VEVENT
DTSTART;TZID=Europe/Madrid:20250505T120000
DTEND;TZID=Europe/Madrid:20250505T120000
DTSTAMP:20260421T192644
CREATED:20250424T111043Z
LAST-MODIFIED:20250424T111043Z
UID:73832-1746446400-1746446400@www.mieres.es
SUMMARY:Exposición:  "20 años Voluntad.es... lo que te diferencia" (5/12 MAY)
DESCRIPTION:Exposición: \n20 años Voluntad.es… lo que te diferencia\n\nSala de exposiciones de la Casa de Cultura Teodoro Cuesta\,\ndel 5 al 12 de mayo de 2025 \nHorario: de 12.00 a 14.00 y de 17:00 a 21:00\, de lunes a viernes \nEntrada libre \n\nLas entidades de voluntariado de Asturias celebran un hito especial: los 20 años del concurso de carteles “Voluntad.es… lo que te diferencia”\, una iniciativa que desde 2005 inspira a la juventud asturiana a reflexionar sobre la importancia del voluntariado. Este evento anual\, dirigido a estudiantes de 14 a 18 años de ESO\, Bachillerato y Formación Profesional\, se ha convertido en un espacio para la creatividad\, el compromiso social y el aprendizaje colectivo. \nDesde su origen\, el concurso busca fomentar la participación juvenil en la sociedad\, resaltando el valor de involucrarse en la comunidad y de trabajar por la transformación social. A través de la creación de carteles (y en ediciones recientes\, videos cortos)\, los estudiantes plasman su visión del voluntariado como motor de cambio. Esta iniciativa es el resultado de un esfuerzo conjunto entre la Red de Centros de Voluntariado y Participación Social\, las entidades sociales de Asturias y la Consejería de Derechos Sociales y Bienestar\, quienes han tejido una red sólida de colaboración para sensibilizar a las nuevas generaciones sobre la acción solidaria. \nCon el apoyo de casi 40 entidades participantes\, el concurso se complementa con talleres en centros educativos\, actividades experienciales el día de entrega de premios (Día Internacional del Voluntariado) y la creación de materiales didácticos que facilitan la continuidad de este mensaje en las aulas. \nExposición Retrospectiva \nLa exposición no solo destaca la evolución de los mensajes y técnicas reflejando las circunstancias atravesadas\, sino que también refleja los valores\, aprendizajes y el impacto del voluntariado en la juventud asturiana. Es un tributo a la implicación del alumnado\, profesorado\, entidades y personas voluntarias que\, año tras año\, han hecho posible esta experiencia enriquecedora en la que nos transmiten mediante llamadas a la acción (voluntaria) la necesidad de implicarnos para cuidar y trasformar Asturias. \n 
URL:https://www.mieres.es/evento/exposicion-20-anos-voluntad-es-lo-que-te-diferencia-5-12-may/
LOCATION:Casa de Cultura Teodoro Cuesta\, Calle Manuel Llaneza\, 8\, Mieres\, Asturias\, 33600\, España
CATEGORIES:Exposiciones,Participación Ciudadana
ATTACH;FMTTYPE=image/jpeg:https://www.mieres.es/wp-content/uploads/2025/04/Cartel-expo-voluntariado.jpg
GEO:43.2502294;-5.7729571
X-APPLE-STRUCTURED-LOCATION;VALUE=URI;X-ADDRESS=Casa de Cultura Teodoro Cuesta Calle Manuel Llaneza 8 Mieres Asturias 33600 España;X-APPLE-RADIUS=500;X-TITLE=Calle Manuel Llaneza\, 8:geo:-5.7729571,43.2502294
END:VEVENT
END:VCALENDAR