BEGIN:VCALENDAR
VERSION:2.0
PRODID:-//Ayuntamiento de Mieres - ECPv5.16.1.1//NONSGML v1.0//EN
CALSCALE:GREGORIAN
METHOD:PUBLISH
X-WR-CALNAME:Ayuntamiento de Mieres
X-ORIGINAL-URL:https://www.mieres.es
X-WR-CALDESC:Eventos para Ayuntamiento de Mieres
BEGIN:VTIMEZONE
TZID:Europe/Madrid
BEGIN:DAYLIGHT
TZOFFSETFROM:+0100
TZOFFSETTO:+0200
TZNAME:CEST
DTSTART:20250330T010000
END:DAYLIGHT
BEGIN:STANDARD
TZOFFSETFROM:+0200
TZOFFSETTO:+0100
TZNAME:CET
DTSTART:20251026T010000
END:STANDARD
END:VTIMEZONE
BEGIN:VEVENT
DTSTART;VALUE=DATE:20250511
DTEND;VALUE=DATE:20250512
DTSTAMP:20260421T192757
CREATED:20250509T092057Z
LAST-MODIFIED:20250509T092209Z
UID:74053-1746921600-1747007999@www.mieres.es
SUMMARY:XVIII Encuentro Autonómico de Participación Adolescente (10/11MAY)
DESCRIPTION:  \n\nParticipación Ciudadana \nXVIII Encuentro Autonómico de Participación Adolescente\nMieres\, 10 y 11 de mayo de 2025 \nVarias ubicaciones\, sede principal en el Mieres Centru Cultural \n  \n\nPROGRAMA DOMINGO\, 11\n  \n \nPARTICIPANTES EN EL \nXVIII ENCUENTRO AUTONÓMICO DE PARTICIPACIÓN ADOLESCENTE: \n1. AYUNTAMIENTO DE PARRES (3) \n2. AYUNTAMIENTO DE LLANES (2) \n3. AYUNTAMIENTO DE VILLAVICIOSA (2) \n4. AYUNTAMIENTO DE NAVA (2) \n5. AYUNTAMIENTO DE COLUNGA (2) \n6. AYUNTAMIENTO DE LAVIANA (2) \n7. AYUNTAMIENTO DE NOREÑA (2) \n8. AYUNTAMIENTO DE LENA (1) \n9. AYUNTAMIENTO DE GRAO (3) \n10. AYUNTAMIENTO DE CASTRILLÓN (2) \n11. AYTO CANGAS DE ONIS (1) \n12. AYUNTAMIENTO DE AVILES (2) \n13. AYUNTAMIENTO DE LLANERA (2) \n14. AYUNTAMIENTO DE CANGAS DE NARCEA (3) \n15. AYUNTAMIENTO DE GIJÓN (2) \n16. AYUNTAMIENTO DE CORVERA (2) \n17. Ayto. DE LANGREO (2) \n18. Ayto de OVIEDO (2) \n19. Ayto. SALAS \n20. Ayto MIERES (3) \n21. CENTROS DE PROTECCIÓN DE MENORES DE GIJÓN (5) \n22. CENTROS DE PROTECCIÓN DE MENORES DE AVILÉS (3) \n 
URL:https://www.mieres.es/evento/xviii-encuentro-autonomico-de-participacion-adolescente-10-11may-2/
LOCATION:Mieres Centru Cultural\, Calle Jerónimo Ibrán\, 10\, Mieres\, Asturias\, 33600
CATEGORIES:Juventud e Infancia,Participación Ciudadana
ATTACH;FMTTYPE=image/jpeg:https://www.mieres.es/wp-content/uploads/2025/05/Programa-Encuentro-Mieres_Pagina_1-scaled.jpg
ORGANIZER;CN="Concejal%C3%ADa%20de%20Infancia%20y%20Juventud":MAILTO:oij@ayto-mieres.es
END:VEVENT
END:VCALENDAR