BEGIN:VCALENDAR
VERSION:2.0
PRODID:-//Ayuntamiento de Mieres - ECPv5.16.1.1//NONSGML v1.0//EN
CALSCALE:GREGORIAN
METHOD:PUBLISH
X-WR-CALNAME:Ayuntamiento de Mieres
X-ORIGINAL-URL:https://www.mieres.es
X-WR-CALDESC:Eventos para Ayuntamiento de Mieres
BEGIN:VTIMEZONE
TZID:Europe/Madrid
BEGIN:DAYLIGHT
TZOFFSETFROM:+0100
TZOFFSETTO:+0200
TZNAME:CEST
DTSTART:20250330T010000
END:DAYLIGHT
BEGIN:STANDARD
TZOFFSETFROM:+0200
TZOFFSETTO:+0100
TZNAME:CET
DTSTART:20251026T010000
END:STANDARD
END:VTIMEZONE
BEGIN:VEVENT
DTSTART;TZID=Europe/Madrid:20250522T120000
DTEND;TZID=Europe/Madrid:20250522T120000
DTSTAMP:20260421T192844
CREATED:20250424T120013Z
LAST-MODIFIED:20250424T120013Z
UID:73842-1747915200-1747915200@www.mieres.es
SUMMARY:Exposición:  "Voluntariado y Salud" (13/22 MAY)
DESCRIPTION:Exposición: \nVoluntariado y Salud\n\nSala de exposiciones de la Casa de Cultura Teodoro Cuesta\,\ndel 13 al 22 de mayo de 2025 \nHorario: de 12.00 a 14.00 y de 17:00 a 21:00\, de lunes a viernes \nEntrada libre \n\n 
URL:https://www.mieres.es/evento/exposicion-voluntariado-y-salud-13-22-may-2/
LOCATION:Casa de Cultura Teodoro Cuesta\, Calle Manuel Llaneza\, 8\, Mieres\, Asturias\, 33600\, España
CATEGORIES:Exposiciones,Participación Ciudadana
ATTACH;FMTTYPE=image/jpeg:https://www.mieres.es/wp-content/uploads/2025/04/Cartel-expo-voluntariado.jpg
GEO:43.2502294;-5.7729571
X-APPLE-STRUCTURED-LOCATION;VALUE=URI;X-ADDRESS=Casa de Cultura Teodoro Cuesta Calle Manuel Llaneza 8 Mieres Asturias 33600 España;X-APPLE-RADIUS=500;X-TITLE=Calle Manuel Llaneza\, 8:geo:-5.7729571,43.2502294
END:VEVENT
END:VCALENDAR