BEGIN:VCALENDAR
VERSION:2.0
PRODID:-//Ayuntamiento de Mieres - ECPv5.16.1.1//NONSGML v1.0//EN
CALSCALE:GREGORIAN
METHOD:PUBLISH
X-WR-CALNAME:Ayuntamiento de Mieres
X-ORIGINAL-URL:https://www.mieres.es
X-WR-CALDESC:Eventos para Ayuntamiento de Mieres
BEGIN:VTIMEZONE
TZID:Europe/Madrid
BEGIN:DAYLIGHT
TZOFFSETFROM:+0100
TZOFFSETTO:+0200
TZNAME:CEST
DTSTART:20250330T010000
END:DAYLIGHT
BEGIN:STANDARD
TZOFFSETFROM:+0200
TZOFFSETTO:+0100
TZNAME:CET
DTSTART:20251026T010000
END:STANDARD
END:VTIMEZONE
BEGIN:VEVENT
DTSTART;TZID=Europe/Madrid:20251218T170000
DTEND;TZID=Europe/Madrid:20251218T170000
DTSTAMP:20260421T092459
CREATED:20251204T110145Z
LAST-MODIFIED:20251204T110145Z
UID:76797-1766077200-1766077200@www.mieres.es
SUMMARY:Tarde de 'Parti' Navideña. Grupo de Participación Juvenil de Mieres
DESCRIPTION:  \n\nParticipación Ciudadana / Juventud \nTarde de ‘Parti’ Navideña\nGrupo de Participación Juvenil de Mieres\nTaller de cocina navideña\nDinámicas cooperativas \nLocales de la antigua Oficina de Información Juvenil (C/ Doce de Octubre) \n18 de diciembre de 2025\, de 17 a 19:00h. \nInscripciones gratuitas desde: https://erp.cometaverde.com/projects/93/subscribe \n\n  \nEl próximo jueves 18 de diciembre realizaremos una actividad especial en el marco de la captación para el grupo infantil de Mieres: una tarde dedicada a la creatividad\, el aprendizaje y el trabajo en equipo. La sesión incluirá un taller de cocina navideña y diversas dinámicas cooperativas\, impartidas por monitores de Cometa Verde y con la colaboración del Grupo de Participación Juvenil de Mieres.
URL:https://www.mieres.es/evento/tarde-de-parti-navidena-grupo-de-participacion-juvenil-de-mieres/
LOCATION:Local antigua OIJ\, C/ Doce de Octubre\, 42\, Mieres
CATEGORIES:Juventud e Infancia,Participación Ciudadana
ATTACH;FMTTYPE=image/jpeg:https://www.mieres.es/wp-content/uploads/2025/12/Carteleria-Parti-Navidad-2025.jpg
END:VEVENT
END:VCALENDAR