BEGIN:VCALENDAR
VERSION:2.0
PRODID:-//Ayuntamiento de Mieres - ECPv5.16.1.1//NONSGML v1.0//EN
CALSCALE:GREGORIAN
METHOD:PUBLISH
X-WR-CALNAME:Ayuntamiento de Mieres
X-ORIGINAL-URL:https://www.mieres.es
X-WR-CALDESC:Eventos para Ayuntamiento de Mieres
BEGIN:VTIMEZONE
TZID:Europe/Madrid
BEGIN:DAYLIGHT
TZOFFSETFROM:+0100
TZOFFSETTO:+0200
TZNAME:CEST
DTSTART:20240331T010000
END:DAYLIGHT
BEGIN:STANDARD
TZOFFSETFROM:+0200
TZOFFSETTO:+0100
TZNAME:CET
DTSTART:20241027T010000
END:STANDARD
END:VTIMEZONE
BEGIN:VEVENT
DTSTART;TZID=Europe/Madrid:20240908T093000
DTEND;TZID=Europe/Madrid:20240908T093000
DTSTAMP:20260422T101727
CREATED:20240704T091732Z
LAST-MODIFIED:20240704T091732Z
UID:69920-1725787800-1725787800@www.mieres.es
SUMMARY:Rutas Turísticas 2024: "Ruta cicloturista guiada por la Senda Verde de Lloreo-Frechura"
DESCRIPTION:RUTAS TURÍSTICAS GRATUITAS 2024\nEste verano DISFRUTA MIERES\n\nRUTA CICLOTURISTA SENDA VERDE LLOREO-FRECHURA\nRuta cicloturista que te conducirá por la Senda Verde de Lloreo hasta el valle de Frechura\, siguiendo el trayecto del antiguo ferrocarril de vía estrecha de Hulleras de Riosa\, donde atravesarás túneles\, puentes y antiguas estaciones. Un camino rodeado de bosques autóctonos en el que destaca el paisaje calizo de las hoces de los ríos Caudal y Riosa. \n  \nDETALLES DE LA ACTIVIDAD \n\nFecha: domingo 8 de septiembre\nHora: 9:30 h\nPunto de encuentro: estación Renfe Mieres Puente. Enlace Google maps: https://maps.app.goo.gl/YFXQtLNSkQKabjdY8\nEdad mínima de los participantes: 12 años\nDuración aproximada: 4 horas.\nItinerario: Mieres – La Pereda – Lloreo/Loredo – Frechura – Mieres\nDistancia del recorrido (ida y vuelta): 17\,2 km\nDesnivel positivo (ida): 111 m\nDesnivel negativo (ida): 93 m\nGrupo máximo de participantes: 25 personas\nServicios incluidos: guía en español\, bicicleta y casco\, entrada y visita al Aula Didáctica del Ferrocarril Minero de Lloreo.\nServicios no incluidos: traslados al punto de encuentro.\nAccesibilidad: esta ruta no es accesible para personas con movilidad reducida.\nCuándo reservar: puedes hacerlo hasta 48 horas antes de la actividad\, siempre y cuando haya plazas disponibles.\nMascotas: no permitidas\nEsta actividad necesita un mínimo de 5 participantes. En caso de no alcanzar ese número\, nos pondremos en contacto contigo para comunicártelo.\n\n  \nRESERVAS \nPlazas limitadas. Imprescindible formalizar reserva previa con 48 horas de antelación a la actividad. \nLa reserva se realizará a través del formulario online disponible en esta misma web\, más abajo. Unos días antes de la actividad le enviaremos un mensaje de confirmación para informarle de todos los detalles de la ruta. \n  \nCANCELACIONES \nPara cancelar la reserva realizada será necesario contactar con la Oficina de Turismo de Mieres a través de cualquiera de los siguientes medios: \n\nTfno.: 985 45 05 33\nE-mail: turismo@ayto-mieres.es\nWhastApp: https://wa.me/message/7WTB3WTX46UYE1\n\nLas plazas son limitadas y se habilitan listas de espera para suplir posibles cancelaciones\, motivo por el cual\, en el caso de que no puedan asistir a la ruta\, rogamos nos lo comuniquen con antelación para poder asignar las plazas a las personas que se encuentran en lista de espera. \nPara más información pueden dirigirse a la Oficina de Turismo de Mieres/Casa de Cultura de Mieres\, en la calle Manuel Llaneza\, 8. Tfno. 985450533 \n\n  \nRutas Turísticas 2024 \nLa Concejalía de Turismo del Ayuntamiento de Mieres pone en marcha el programa “Este verano\, DISFRUTA MIERES”\, con el fin de dinamizar la actividad turística estival y de poner en valor y dar a conocer el patrimonio natural y cultural del concejo. Se trata de itinerarios guiados gratuitos para todos los públicos\, que se desarrollarán durante los meses de julio\, agosto y septiembre. La propuesta contempla rutas cicloturistas\, etnográficas y senderistas\, así como visitas guiadas\, GeoRutas y un taller de observación solar. \nConsulta y descarga el programa completo aquí \n  \n\n  \n \nCargando…
URL:https://www.mieres.es/evento/rutas-turisticas-2024-ruta-cicloturista-guiada-por-la-senda-verde-de-lloreo-frechura/
LOCATION:Estación RENFE
CATEGORIES:Ruta Turística,Turismo
ATTACH;FMTTYPE=image/jpeg:https://www.mieres.es/wp-content/uploads/2024/07/CARTEL-web-RUTAS-TURISTICAS-2024.jpg
ORGANIZER;CN="Concejal%C3%ADa%20de%20Turismo":MAILTO:turismo@ayto-mieres.es
END:VEVENT
END:VCALENDAR