BEGIN:VCALENDAR
VERSION:2.0
PRODID:-//Ayuntamiento de Mieres - ECPv5.16.1.1//NONSGML v1.0//EN
CALSCALE:GREGORIAN
METHOD:PUBLISH
X-WR-CALNAME:Ayuntamiento de Mieres
X-ORIGINAL-URL:https://www.mieres.es
X-WR-CALDESC:Eventos para Ayuntamiento de Mieres
BEGIN:VTIMEZONE
TZID:Europe/Madrid
BEGIN:DAYLIGHT
TZOFFSETFROM:+0100
TZOFFSETTO:+0200
TZNAME:CEST
DTSTART:20240331T010000
END:DAYLIGHT
BEGIN:STANDARD
TZOFFSETFROM:+0200
TZOFFSETTO:+0100
TZNAME:CET
DTSTART:20241027T010000
END:STANDARD
END:VTIMEZONE
BEGIN:VEVENT
DTSTART;TZID=Europe/Madrid:20240915T100000
DTEND;TZID=Europe/Madrid:20240915T100000
DTSTAMP:20260422T101806
CREATED:20240704T095530Z
LAST-MODIFIED:20240704T095530Z
UID:69941-1726394400-1726394400@www.mieres.es
SUMMARY:Rutas Turísticas 2024: "Georuta de senderismo guiada por el entorno de Nicolasa"
DESCRIPTION:RUTAS TURÍSTICAS GRATUITAS 2024\nEste verano DISFRUTA MIERES\n\nGEORUTA DE SENDERISMO GUIADA POR NICOLASA\nRuta de senderismo guiada por el entorno de Nicolasa\, en la que descubrirás los aspectos geológicos más relevantes del entorno y de la Cuenca Carbonífera Central. \n  \nDETALLES DE LA ACTIVIDAD \n\nFecha: domingo 15 de septiembre\nHora: 10:00 h\nPunto de encuentro: aparcamiento Pozo San Nicolás (Nicolasa\, Lloreo). Enlace Google maps: https://maps.app.goo.gl/nZJSpHLg2mD1cNW77\nDuración aproximada: 4-5 horas.\nEdad mínima de los participantes: 8 años y acostumbrados a caminar.\nDistancia aproximada: 9 km 5 m\nDesnivel positivo: 600 m\nDificultad: moderada.\nServicios incluidos: guía de montaña en español.\nServicios no incluidos: traslados al punto de encuentro.\nAccesibilidad: esta ruta no es accesible para personas con movilidad reducida.\nMaterial necesario: ropa y calzado de montaña (obligatorio); agua.\nMaterial recomendable: chubasquero o cortavientos\, gorra\, gafas de sol y protección solar.\nCuándo reservar: puedes hacerlo hasta 48 horas antes de la actividad\, siempre y cuando haya plazas disponibles.\nMascotas: no permitidas\nEsta actividad necesita un mínimo de 5 participantes. En caso de no alcanzar ese número\, nos pondremos en contacto contigo para comunicártelo.\n\n\n  \nRESERVAS \nPlazas limitadas. Imprescindible formalizar reserva previa con 48 horas de antelación a la actividad. \nLa reserva se realizará a través del formulario online disponible en esta misma web\, más abajo. Unos días antes de la actividad le enviaremos un mensaje de confirmación para informarle de todos los detalles de la ruta. \n  \nCANCELACIONES \nPara cancelar la reserva realizada será necesario contactar con la Oficina de Turismo de Mieres a través de cualquiera de los siguientes medios: \n\nTfno.: 985 45 05 33\nE-mail: turismo@ayto-mieres.es\nWhastApp: https://wa.me/message/7WTB3WTX46UYE1\n\nLas plazas son limitadas y se habilitan listas de espera para suplir posibles cancelaciones\, motivo por el cual\, en el caso de que no puedan asistir a la ruta\, rogamos nos lo comuniquen con antelación para poder asignar las plazas a las personas que se encuentran en lista de espera. \nPara más información pueden dirigirse a la Oficina de Turismo de Mieres/Casa de Cultura de Mieres\, en la calle Manuel Llaneza\, 8. Tfno. 985450533 \n\n  \nRutas Turísticas 2024 \nLa Concejalía de Turismo del Ayuntamiento de Mieres pone en marcha el programa “Este verano\, DISFRUTA MIERES”\, con el fin de dinamizar la actividad turística estival y de poner en valor y dar a conocer el patrimonio natural y cultural del concejo. Se trata de itinerarios guiados gratuitos para todos los públicos\, que se desarrollarán durante los meses de julio\, agosto y septiembre. La propuesta contempla rutas cicloturistas\, etnográficas y senderistas\, así como visitas guiadas\, GeoRutas y un taller de observación solar. \nConsulta y descarga el programa completo aquí \n  \n\n  \n \nCargando…
URL:https://www.mieres.es/evento/rutas-turisticas-2024-georuta-de-senderismo-guiada-por-el-entorno-de-nicolasa/
CATEGORIES:Ruta Turística,Turismo
ATTACH;FMTTYPE=image/jpeg:https://www.mieres.es/wp-content/uploads/2024/07/CARTEL-web-RUTAS-TURISTICAS-2024.jpg
ORGANIZER;CN="Concejal%C3%ADa%20de%20Turismo":MAILTO:turismo@ayto-mieres.es
END:VEVENT
END:VCALENDAR