BEGIN:VCALENDAR
VERSION:2.0
PRODID:-//Ayuntamiento de Mieres - ECPv5.16.1.1//NONSGML v1.0//EN
CALSCALE:GREGORIAN
METHOD:PUBLISH
X-WR-CALNAME:Ayuntamiento de Mieres
X-ORIGINAL-URL:https://www.mieres.es
X-WR-CALDESC:Eventos para Ayuntamiento de Mieres
BEGIN:VTIMEZONE
TZID:Europe/Madrid
BEGIN:DAYLIGHT
TZOFFSETFROM:+0100
TZOFFSETTO:+0200
TZNAME:CEST
DTSTART:20210328T010000
END:DAYLIGHT
BEGIN:STANDARD
TZOFFSETFROM:+0200
TZOFFSETTO:+0100
TZNAME:CET
DTSTART:20211031T010000
END:STANDARD
END:VTIMEZONE
BEGIN:VEVENT
DTSTART;TZID=Europe/Madrid:20211020T100000
DTEND;TZID=Europe/Madrid:20211020T100000
DTSTAMP:20260424T050757
CREATED:20211014T120026Z
LAST-MODIFIED:20211014T120026Z
UID:49899-1634724000-1634724000@www.mieres.es
SUMMARY:Taller de competencias digitales (2ª edición)
DESCRIPTION:TALLER DE COMPETENCIAS DIGITALES\nMiércoles 20 de octubre\, 10:00 y 12:30h. \nCasa de la Cultura Teodoro Cuesta \n  \nInscripción gratuita a través del teléfono 984 29 22 39 (Área de Participación Ciudadana) \n\n  \nSegunda sesión del Taller sobre Comunicación Digital con la Administración. El contenido se explicará con metodología práctica en la que se indicarán los trámites para la comunicación electrónica con la Administración: Descarga de documentos\, registro electrónico\, certificados digitales\, etc. Se dispone de la sala de ordenadores en la Casa de Cultura de Mieres. La asistencia máxima en cada pase es de 15 personas\, por lo que se dará prioridad a la asistencia de representantes de asociaciones vecinales\, ya que está abierta en estos días la convocatoria para las subvenciones a las AA.VV. \, de quedar plazas libres pueden inscribirse otros integrantes del movimiento asociativo y también ciudadanos a nivel particular. \n  \n\n 
URL:https://www.mieres.es/evento/taller-de-competencias-digitales-2a-edicion/
LOCATION:Casa de Cultura Teodoro Cuesta\, Calle Manuel Llaneza\, 8\, Mieres\, Asturias\, 33600\, España
CATEGORIES:Participación Ciudadana,Taller
ATTACH;FMTTYPE=image/jpeg:https://www.mieres.es/wp-content/uploads/2021/10/taller-de-competencias-digitales-2021-2.jpeg
GEO:43.2502294;-5.7729571
X-APPLE-STRUCTURED-LOCATION;VALUE=URI;X-ADDRESS=Casa de Cultura Teodoro Cuesta Calle Manuel Llaneza 8 Mieres Asturias 33600 España;X-APPLE-RADIUS=500;X-TITLE=Calle Manuel Llaneza\, 8:geo:-5.7729571,43.2502294
END:VEVENT
END:VCALENDAR