BEGIN:VCALENDAR
VERSION:2.0
PRODID:-//Ayuntamiento de Mieres - ECPv5.16.1.1//NONSGML v1.0//EN
CALSCALE:GREGORIAN
METHOD:PUBLISH
X-WR-CALNAME:Ayuntamiento de Mieres
X-ORIGINAL-URL:https://www.mieres.es
X-WR-CALDESC:Eventos para Ayuntamiento de Mieres
BEGIN:VTIMEZONE
TZID:Europe/Madrid
BEGIN:DAYLIGHT
TZOFFSETFROM:+0100
TZOFFSETTO:+0200
TZNAME:CEST
DTSTART:20210328T010000
END:DAYLIGHT
BEGIN:STANDARD
TZOFFSETFROM:+0200
TZOFFSETTO:+0100
TZNAME:CET
DTSTART:20211031T010000
END:STANDARD
END:VTIMEZONE
BEGIN:VEVENT
DTSTART;TZID=Europe/Madrid:20211028T170000
DTEND;TZID=Europe/Madrid:20211028T193000
DTSTAMP:20260424T050757
CREATED:20211022T094123Z
LAST-MODIFIED:20211022T095253Z
UID:50040-1635440400-1635449400@www.mieres.es
SUMMARY:Taller de reciclaje textil. Programa 'Juntas reciclamos por un mañana'
DESCRIPTION:TALLER DE RECICLAJE TEXTIL\nPROGRAMA “JUNTAS RECICLAMOS POR UN MAÑANA”\n  \nEn la Casa de Encuentro de las Mujeres\, C/Jerónimo Ibrán\, 19\nlos martes y jueves del 28 de octubre al 23 de noviembre \nInscripciones gratuitas en la propia Casa de Encuentro de las Mujeres\, C/Jerónimo Ibrán\, 19\n(y a través del formulario web que encontrará en esta misma página web\, más abajo) \n  \n\n  \nNuevo taller enmarcado en el programa “Juntas reciclamos por un mañana”\, un proyecto realizado por nuestra Concejalía de Igualdad y Feminismo gracias a la concesión de una subvención gestionada a través del Instituto de la mujer y para la Igualdad de oportunidades (IMIO)\, en colaboración con la Federación española de de Municipios y provincias (FEMP). \nEl curso es totalmente gratuito y el número de plazas es limitado. \n  \n\nFORMULARIO DE INSCRIPCIÓN:\nCargando…
URL:https://www.mieres.es/evento/taller-de-reciclaje-textil-programa-juntas-reciclamos-por-un-manana/
LOCATION:Casa de las Mujeres\, C/ Jerónimo Ibrán 19\, Mieres\, Asturias\, 33600\, España
CATEGORIES:Igualdad,Taller
ATTACH;FMTTYPE=image/jpeg:https://www.mieres.es/wp-content/uploads/2021/10/CARTEL-web-taller-restauracion-textil.jpg
GEO:43.2512334;-5.7731606
X-APPLE-STRUCTURED-LOCATION;VALUE=URI;X-ADDRESS=Casa de las Mujeres C/ Jerónimo Ibrán 19 Mieres Asturias 33600 España;X-APPLE-RADIUS=500;X-TITLE=C/ Jerónimo Ibrán 19:geo:-5.7731606,43.2512334
END:VEVENT
END:VCALENDAR