BEGIN:VCALENDAR
VERSION:2.0
PRODID:-//Ayuntamiento de Mieres - ECPv5.16.1.1//NONSGML v1.0//EN
CALSCALE:GREGORIAN
METHOD:PUBLISH
X-WR-CALNAME:Ayuntamiento de Mieres
X-ORIGINAL-URL:https://www.mieres.es
X-WR-CALDESC:Eventos para Ayuntamiento de Mieres
BEGIN:VTIMEZONE
TZID:Europe/Madrid
BEGIN:DAYLIGHT
TZOFFSETFROM:+0100
TZOFFSETTO:+0200
TZNAME:CEST
DTSTART:20210328T010000
END:DAYLIGHT
BEGIN:STANDARD
TZOFFSETFROM:+0200
TZOFFSETTO:+0100
TZNAME:CET
DTSTART:20211031T010000
END:STANDARD
END:VTIMEZONE
BEGIN:VEVENT
DTSTART;TZID=Europe/Madrid:20211214T163000
DTEND;TZID=Europe/Madrid:20211214T203000
DTSTAMP:20260424T020637
CREATED:20211207T140924Z
LAST-MODIFIED:20211207T140924Z
UID:50890-1639499400-1639513800@www.mieres.es
SUMMARY:Taller de autoprotección frente a la violencia contra las mujeres
DESCRIPTION:TALLER \nProyecto multidisciplinar\nde autoprotección frente a la violencia contra las mujeres\nPonencias teóricas\nDefensa personal \nEn el Polideportivo Municipal de Oñón\n14 de diciembre\, de 16:30 a 20:30h \nInscripciones gratuitas en la propia Casa de Encuentro de las Mujeres\, C/Jerónimo Ibrán\, 19\n(y a través del formulario web que encontrará en esta misma página web\, más abajo) \n  \n\n  \n  \n  \n\nFORMULARIO DE INSCRIPCIÓN:\nCargando…
URL:https://www.mieres.es/evento/taller-de-autoproteccion-frente-a-la-violencia-contra-las-mujeres/
LOCATION:Polideportivo Municipal de Oñón\, Calle Oñón\, s/n\, 33600 Mieres\, Asturias\, Mieres\, Asturias\, 33600
CATEGORIES:Igualdad,Taller
ATTACH;FMTTYPE=image/jpeg:https://www.mieres.es/wp-content/uploads/2021/12/Cartel-autoproteccion-Mieres-web.jpg
GEO:43.2553515;-5.7746067
X-APPLE-STRUCTURED-LOCATION;VALUE=URI;X-ADDRESS=Polideportivo Municipal de Oñón Calle Oñón s/n 33600 Mieres Asturias Mieres Asturias 33600;X-APPLE-RADIUS=500;X-TITLE=Calle Oñón\, s/n\, 33600 Mieres\, Asturias:geo:-5.7746067,43.2553515
END:VEVENT
END:VCALENDAR