BEGIN:VCALENDAR
VERSION:2.0
PRODID:-//Ayuntamiento de Mieres - ECPv5.16.1.1//NONSGML v1.0//EN
CALSCALE:GREGORIAN
METHOD:PUBLISH
X-WR-CALNAME:Ayuntamiento de Mieres
X-ORIGINAL-URL:https://www.mieres.es
X-WR-CALDESC:Eventos para Ayuntamiento de Mieres
BEGIN:VTIMEZONE
TZID:Europe/Madrid
BEGIN:DAYLIGHT
TZOFFSETFROM:+0100
TZOFFSETTO:+0200
TZNAME:CEST
DTSTART:20220327T010000
END:DAYLIGHT
BEGIN:STANDARD
TZOFFSETFROM:+0200
TZOFFSETTO:+0100
TZNAME:CET
DTSTART:20221030T010000
END:STANDARD
END:VTIMEZONE
BEGIN:VEVENT
DTSTART;TZID=Europe/Madrid:20220303T190000
DTEND;TZID=Europe/Madrid:20220303T190000
DTSTAMP:20260423T200635
CREATED:20220302T083952Z
LAST-MODIFIED:20220302T083952Z
UID:52367-1646334000-1646334000@www.mieres.es
SUMMARY:Jornadas 8M: Presentación del libro "Calladita no eres más bonita"
DESCRIPTION:JORNADAS 8M 2022\nPresentación del libro\n“Calladita no eres más bonita”\nde Nuria Prieto\nCon la participación de Cristina Corteguera Fdez. \nJueves 3 de marzo\, 19:00h\nCasa de las Mujeres \n\n  \nLa violencia machista que no deja moratones. Diez mujeres jóvenes ponen voz a las formas de maltrato que han vivido por parte de sus exparejas: control de móviles\, abusos sexuales o luz de gas. Es difícil acotarlo porque las primeras señales siempre las pasas por alto porque nadie te enseña nada. Conoces a alguien que parece muy bueno\, que va ocupando todo tu tiempo y no te estás dando cuenta de que lo que está haciendo es quitártelo para que solo estés con él y así generar una dependencia. Todo empieza así\, con pequeñas cosas hasta que luego todo va a más y todo se complica. Contarlo seguro que puede ayudarnos a muchas mujeres con nuestras futuras relaciones. Calladita no eres más bonita\, es una publicación que recoge los testimonios de diez chicas que han sufrido violencia de género durante su adolescencia y primeros años de juventud. Sus palabras se han transformado en historias de ficción basadas en los relatos originales con el objetivo de proteger su privacidad y transmitir al mismo tiempo las atmósferas asfixiantes y pavorosas que han vivido. \nEl proyecto trasciende con la publicación ya que en torno a ella se ha creado un perfil de instagram a través del cual se ha generado poco a poco una red de mujeres que quieren relatar sus historias y participar en un segundo volumen que ya está en marcha. Las mujeres participantes en estos relatos han descrito situaciones de violencia dentro de la pareja\, de la familia y el entorno profesional o educativo (en el instituto o la universidad). Los contextos en los que se desarrollan las historias son muy diversos\, desde familias perfectamente equilibradas\, afectivas y tradicionales a otras en las que la violencia ya estaba presente. \n  \n  \n\n \nActividad financiada con cargo a los créditos del Pacto de Estado contra la violencia de género\, recibidos del Ministerio de la Presidencia\, Relaciones con las Cortes e Igualdad\, a través de la Secretaría de Estado
URL:https://www.mieres.es/evento/jornadas-8m-presentacion-del-libro-calladita-no-eres-mas-bonita/
LOCATION:Casa de las Mujeres\, C/ Jerónimo Ibrán 19\, Mieres\, Asturias\, 33600\, España
CATEGORIES:Igualdad,Taller
ATTACH;FMTTYPE=image/jpeg:https://www.mieres.es/wp-content/uploads/2022/03/03-CARTEL-libro-calladita-1200.jpg
GEO:43.2512334;-5.7731606
X-APPLE-STRUCTURED-LOCATION;VALUE=URI;X-ADDRESS=Casa de las Mujeres C/ Jerónimo Ibrán 19 Mieres Asturias 33600 España;X-APPLE-RADIUS=500;X-TITLE=C/ Jerónimo Ibrán 19:geo:-5.7731606,43.2512334
END:VEVENT
END:VCALENDAR