BEGIN:VCALENDAR
VERSION:2.0
PRODID:-//Ayuntamiento de Mieres - ECPv5.16.1.1//NONSGML v1.0//EN
CALSCALE:GREGORIAN
METHOD:PUBLISH
X-WR-CALNAME:Ayuntamiento de Mieres
X-ORIGINAL-URL:https://www.mieres.es
X-WR-CALDESC:Eventos para Ayuntamiento de Mieres
BEGIN:VTIMEZONE
TZID:Europe/Madrid
BEGIN:DAYLIGHT
TZOFFSETFROM:+0100
TZOFFSETTO:+0200
TZNAME:CEST
DTSTART:20220327T010000
END:DAYLIGHT
BEGIN:STANDARD
TZOFFSETFROM:+0200
TZOFFSETTO:+0100
TZNAME:CET
DTSTART:20221030T010000
END:STANDARD
END:VTIMEZONE
BEGIN:VEVENT
DTSTART;TZID=Europe/Madrid:20220316T180000
DTEND;TZID=Europe/Madrid:20220316T180000
DTSTAMP:20260423T201228
CREATED:20220303T103216Z
LAST-MODIFIED:20220303T103216Z
UID:52462-1647453600-1647453600@www.mieres.es
SUMMARY:Taller para asociaciones: Comunicación\, manejo y gestión de Redes Sociales
DESCRIPTION:TALLER\nComunicación\, manejo y gestión de Redes Sociales\n\nImpartido por José Enrique Fernández (comunicador social) \n  \nDías 14\, 16 y 21 de marzo de 2022\, de 18:00 y 19:30h. \nSala de equipos informáticos. Casa de la Cultura Teodoro Cuesta \n  \nInscripción gratuita a través del formulario online del enlace: https://forms.gle/eW8Ax7LtWJMJYQcCA \n  \nMás información en el teléfono 985 464 000 o a través del mail: voluntariadoarea7@cruzroja.es \n(Organizado por el Centro de Voluntariado y Participación Social Área VII. Cruz Roja) \n\n  \nTaller de formación dirigido a asociaciones del área y sobre todo a personas responsables de gestionar las redes sociales de las asociaciones. Con esta formación se conseguirá dar visibilidad a las asociaciones y a todas las actividades que llevan a cabo entre la ciudadanía al comprender mejor el manejo de las tan necesarias en este tiempo redes sociales. \n  \n\n 
URL:https://www.mieres.es/evento/taller-para-asociaciones-comunicacion-manejo-y-gestion-de-redes-sociales/
LOCATION:Casa de Cultura Teodoro Cuesta\, Calle Manuel Llaneza\, 8\, Mieres\, Asturias\, 33600\, España
CATEGORIES:Participación Ciudadana,Taller
ATTACH;FMTTYPE=image/jpeg:https://www.mieres.es/wp-content/uploads/2022/03/CARTEL-CURSO-redes-sociales-2022.jpeg
GEO:43.2502294;-5.7729571
X-APPLE-STRUCTURED-LOCATION;VALUE=URI;X-ADDRESS=Casa de Cultura Teodoro Cuesta Calle Manuel Llaneza 8 Mieres Asturias 33600 España;X-APPLE-RADIUS=500;X-TITLE=Calle Manuel Llaneza\, 8:geo:-5.7729571,43.2502294
END:VEVENT
END:VCALENDAR