BEGIN:VCALENDAR
VERSION:2.0
PRODID:-//Ayuntamiento de Mieres - ECPv5.16.1.1//NONSGML v1.0//EN
CALSCALE:GREGORIAN
METHOD:PUBLISH
X-WR-CALNAME:Ayuntamiento de Mieres
X-ORIGINAL-URL:https://www.mieres.es
X-WR-CALDESC:Eventos para Ayuntamiento de Mieres
BEGIN:VTIMEZONE
TZID:Europe/Madrid
BEGIN:DAYLIGHT
TZOFFSETFROM:+0100
TZOFFSETTO:+0200
TZNAME:CEST
DTSTART:20220327T010000
END:DAYLIGHT
BEGIN:STANDARD
TZOFFSETFROM:+0200
TZOFFSETTO:+0100
TZNAME:CET
DTSTART:20221030T010000
END:STANDARD
END:VTIMEZONE
BEGIN:VEVENT
DTSTART;TZID=Europe/Madrid:20220317T190000
DTEND;TZID=Europe/Madrid:20220317T190000
DTSTAMP:20260423T201208
CREATED:20220302T125337Z
LAST-MODIFIED:20220302T125337Z
UID:52435-1647543600-1647543600@www.mieres.es
SUMMARY:Jornadas 8M: Presentación del libro “Operación Cónsules”\, de César Jara
DESCRIPTION:JORNADAS 8M 2022\nPresentación del libro\n“Operación Cónsules”\nde César Jara\n  \nJueves 17 de marzo\, 19:00h\nCasa de las Mujeres \n\n  \nEl reconocido escritor y periodista afincado en Béjar\, César Jara\, publica mediante Ediciones Atlantis una nueva novela que como el mismo define “es mucho más que un relato de tipo policíaco\, es un alegato\, una denuncia contra las mafias que trafican con mujeres y explotan a las personas migrantes en España. Son hechos reales”\, un trabajo muy aplaudido desde el feminismo con el que su autor deja clara su postura respecto “al urgente debate que debe tener este país sobre la abolición de la prostitución”. \nEl libro aterriza en un escenario político donde el Gobierno considera que la prostitución es el máximo exponente de la desigualdad\, “es el trato de las mujeres como objetos sexuales\, como mercancía\, generando dolor y sufrimiento”\, pero sin embargo no se dan pasos para solventar el problema\, y el debate social aún es más tenue de lo que debería dada la gravedad de la problemática planteada. Una nueva novela de la saga del conocido y veterano policía manchego en su lucha por un mundo mejor\, tras la primera publicada con éxito ‘Esclavas de la noche’. \n  \n\n \nActividad financiada con cargo a los créditos del Pacto de Estado contra la violencia de género\, recibidos del Ministerio de la Presidencia\, Relaciones con las Cortes e Igualdad\, a través de la Secretaría de Estado
URL:https://www.mieres.es/evento/jornadas-8m-presentacion-del-libro-operacion-consules-de-cesar-jara/
LOCATION:Casa de las Mujeres\, C/ Jerónimo Ibrán 19\, Mieres\, Asturias\, 33600\, España
CATEGORIES:Igualdad,Taller
ATTACH;FMTTYPE=image/jpeg:https://www.mieres.es/wp-content/uploads/2022/03/17-CARTEL-libro-Operacion-Consules-1200.jpg
GEO:43.2512334;-5.7731606
X-APPLE-STRUCTURED-LOCATION;VALUE=URI;X-ADDRESS=Casa de las Mujeres C/ Jerónimo Ibrán 19 Mieres Asturias 33600 España;X-APPLE-RADIUS=500;X-TITLE=C/ Jerónimo Ibrán 19:geo:-5.7731606,43.2512334
END:VEVENT
END:VCALENDAR