BEGIN:VCALENDAR
VERSION:2.0
PRODID:-//Ayuntamiento de Mieres - ECPv5.16.1.1//NONSGML v1.0//EN
CALSCALE:GREGORIAN
METHOD:PUBLISH
X-WR-CALNAME:Ayuntamiento de Mieres
X-ORIGINAL-URL:https://www.mieres.es
X-WR-CALDESC:Eventos para Ayuntamiento de Mieres
BEGIN:VTIMEZONE
TZID:Europe/Madrid
BEGIN:DAYLIGHT
TZOFFSETFROM:+0100
TZOFFSETTO:+0200
TZNAME:CEST
DTSTART:20220327T010000
END:DAYLIGHT
BEGIN:STANDARD
TZOFFSETFROM:+0200
TZOFFSETTO:+0100
TZNAME:CET
DTSTART:20221030T010000
END:STANDARD
END:VTIMEZONE
BEGIN:VEVENT
DTSTART;TZID=Europe/Madrid:20220330T170000
DTEND;TZID=Europe/Madrid:20220330T170000
DTSTAMP:20260423T183818
CREATED:20220315T124143Z
LAST-MODIFIED:20220315T131326Z
UID:52682-1648659600-1648659600@www.mieres.es
SUMMARY:MIERES XPLORA CIENCIA: "Un bosque químico en Ujo"
DESCRIPTION:MIERES XPLORA CIENCIA\n¡Vamos a cacharrear con la Científica Quimi!\nTaller Ciencias: \n“Un bosque químico en Ujo”\nBiblioteca de Uxo\nPara niños/as de 6 años en adelante. Plazas limitadas\nInscripciones en la Biblioteca de Mieres (Tfno. 985456294) \n\n \n\n \n\n  \n 
URL:https://www.mieres.es/evento/mieres-xplora-ciencia-un-bosque-quimico-en-ujo/
LOCATION:Biblioteca Pública de Ujo\,  C/ Doctor Julio Rodríguez Vigil\, s/n\, Ujo\, Asturias\, 33640 
CATEGORIES:Bibliotecas,Juventud e Infancia,Taller
ATTACH;FMTTYPE=image/jpeg:https://www.mieres.es/wp-content/uploads/2022/03/xPloraCiencia-1200.jpg
GEO:43.2032356;-5.7911073
X-APPLE-STRUCTURED-LOCATION;VALUE=URI;X-ADDRESS=Biblioteca Pública de Ujo  C/ Doctor Julio Rodríguez Vigil s/n Ujo Asturias 33640;X-APPLE-RADIUS=500;X-TITLE=C/ Doctor Julio Rodríguez Vigil\, s/n:geo:-5.7911073,43.2032356
END:VEVENT
END:VCALENDAR