BEGIN:VCALENDAR
VERSION:2.0
PRODID:-//Ayuntamiento de Mieres - ECPv5.16.1.1//NONSGML v1.0//EN
CALSCALE:GREGORIAN
METHOD:PUBLISH
X-WR-CALNAME:Ayuntamiento de Mieres
X-ORIGINAL-URL:https://www.mieres.es
X-WR-CALDESC:Eventos para Ayuntamiento de Mieres
BEGIN:VTIMEZONE
TZID:Europe/Madrid
BEGIN:DAYLIGHT
TZOFFSETFROM:+0100
TZOFFSETTO:+0200
TZNAME:CEST
DTSTART:20220327T010000
END:DAYLIGHT
BEGIN:STANDARD
TZOFFSETFROM:+0200
TZOFFSETTO:+0100
TZNAME:CET
DTSTART:20221030T010000
END:STANDARD
END:VTIMEZONE
BEGIN:VEVENT
DTSTART;TZID=Europe/Madrid:20220331T170000
DTEND;TZID=Europe/Madrid:20220331T170000
DTSTAMP:20260423T183916
CREATED:20220315T125511Z
LAST-MODIFIED:20220315T125511Z
UID:52688-1648746000-1648746000@www.mieres.es
SUMMARY:MIERES XPLORA CIENCIA: "Santa Cruz y las pócimas bifásicas de Quimi"
DESCRIPTION:MIERES XPLORA CIENCIA\n¡Vamos a cacharrear con la Científica Quimi!\nTaller Ciencias: \n“Santa Cruz y las pócimas bifásicas de Quimi”\nBiblioteca de Santa Cruz\nPara niños/as de 6 años en adelante. Plazas limitadas\nInscripciones en la Biblioteca de Mieres (Tfno. 985456294) \n\n \n  \n\n \n\n  \n 
URL:https://www.mieres.es/evento/mieres-xplora-ciencia-santa-cruz-y-las-pocimas-bifasicas-de-quimi/
LOCATION:Biblioteca Pública de Santa Cruz\,  Polideportivo Santa Cruz\, 1ª planta. 33612 Mieres (Asturias)\, Santa Cruz\, Asturias\, 33612
CATEGORIES:Bibliotecas,Juventud e Infancia,Taller
ATTACH;FMTTYPE=image/jpeg:https://www.mieres.es/wp-content/uploads/2022/03/xPloraCiencia-1200.jpg
GEO:43.189207;-5.7668515
X-APPLE-STRUCTURED-LOCATION;VALUE=URI;X-ADDRESS=Biblioteca Pública de Santa Cruz  Polideportivo Santa Cruz 1ª planta. 33612 Mieres (Asturias) Santa Cruz Asturias 33612;X-APPLE-RADIUS=500;X-TITLE=Polideportivo Santa Cruz\, 1ª planta. 33612 Mieres (Asturias):geo:-5.7668515,43.189207
END:VEVENT
BEGIN:VEVENT
DTSTART;TZID=Europe/Madrid:20220331T180000
DTEND;TZID=Europe/Madrid:20220331T180000
DTSTAMP:20260423T183916
CREATED:20220302T131845Z
LAST-MODIFIED:20220304T081503Z
UID:52448-1648749600-1648749600@www.mieres.es
SUMMARY:Jornadas 8M: Charla-Taller de escritura "Malas. La demonización histórica de la mujer en la cultura"
DESCRIPTION:JORNADAS 8M 2022\nCharla-Taller de escritura\n“Malas. La demonización histórica de la mujer en la cultura”\nImpartido por Raquel Presumido. \nCasa de las Mujeres\nJueves\, 31 de marzo\, de 18:00 h. \nInscripciones gratuitas en la propia Casa de Encuentro de las Mujeres\, C/Jerónimo Ibrán\, 19\n(y a través del formulario web que encontrará en esta misma página web\, más abajo) \n\n  \nLocas\, putas\, brujas\, liantas\, manipuladoras…\, en definitiva\, MALAS. Este es el lugar que nos corresponde a las mujeres desde niñas\, en cuanto nos salimos de la línea que han trazado para nosotras\, por cómo la ficción ha ido moldeando a lo largo de la historia la imagen de la mujer desde Eva\, culpable del pecado original\, a la mitología griega\, pasando por la tradición judeocristiana o la novela del siglo XIX hasta nuestros días. Homero hablaba de las mujeres como objeto de deseo de los hombres y causa por tanto de muchos males\, incluso de provocar guerras\, como Helena de Troya. Para Aristóteles\, eran directamente seres inferiores. «Vengativas y locas\, mentirosas y ambiciosas\, putas y asesinas: allí en la Antigua Grecia se diseñó todo nuestro repertorio de taras para los milenios venideros.\nEn este taller trataremos de romper con los estereotipos que nos persiguen desde el principio de los tiempos. \n  \n\nFORMULARIO DE INSCRIPCIÓN:Cargando…\nActividad financiada con cargo a los créditos del Pacto de Estado contra la violencia de género\, recibidos del Ministerio de la Presidencia\, Relaciones con las Cortes e Igualdad\, a través de la Secretaría de Estado de Igualdad.
URL:https://www.mieres.es/evento/jornadas-8m-charla-taller-de-escritura-malas-la-demonizacion-historica-de-la-mujer-en-la-cultura/
LOCATION:Casa de las Mujeres\, C/ Jerónimo Ibrán 19\, Mieres\, Asturias\, 33600\, España
CATEGORIES:Igualdad,Taller
ATTACH;FMTTYPE=image/jpeg:https://www.mieres.es/wp-content/uploads/2022/03/31-CARTEL-taller-MALAS-1200.jpg
GEO:43.2512334;-5.7731606
X-APPLE-STRUCTURED-LOCATION;VALUE=URI;X-ADDRESS=Casa de las Mujeres C/ Jerónimo Ibrán 19 Mieres Asturias 33600 España;X-APPLE-RADIUS=500;X-TITLE=C/ Jerónimo Ibrán 19:geo:-5.7731606,43.2512334
END:VEVENT
END:VCALENDAR