BEGIN:VCALENDAR
VERSION:2.0
PRODID:-//Ayuntamiento de Mieres - ECPv5.16.1.1//NONSGML v1.0//EN
CALSCALE:GREGORIAN
METHOD:PUBLISH
X-WR-CALNAME:Ayuntamiento de Mieres
X-ORIGINAL-URL:https://www.mieres.es
X-WR-CALDESC:Eventos para Ayuntamiento de Mieres
BEGIN:VTIMEZONE
TZID:Europe/Madrid
BEGIN:DAYLIGHT
TZOFFSETFROM:+0100
TZOFFSETTO:+0200
TZNAME:CEST
DTSTART:20220327T010000
END:DAYLIGHT
BEGIN:STANDARD
TZOFFSETFROM:+0200
TZOFFSETTO:+0100
TZNAME:CET
DTSTART:20221030T010000
END:STANDARD
END:VTIMEZONE
BEGIN:VEVENT
DTSTART;TZID=Europe/Madrid:20220605T120000
DTEND;TZID=Europe/Madrid:20220605T150000
DTSTAMP:20260423T125934
CREATED:20220512T073212Z
LAST-MODIFIED:20220512T115140Z
UID:53647-1654430400-1654441200@www.mieres.es
SUMMARY:Domingos reciclando y jugando
DESCRIPTION: \nDOMINGOS RECICLANDO Y JUGANDO\nDe 12:00 a 15.00h\, en distintos lugares del concejo: \n\nPatio Colegios Aniceto Sela-Liceo Mierense\nPolideportivo de Turón\nPolideportivo de Ujo\nPolideportivo de Figaredo\nPolideportivo de Rioturbio\n\nEntrada y participación libre y gratuita \n\n\n\nLa concejalía de Igualdad y Feminismo del Ayuntamiento de Mieres\, dentro del Plan Corresponsables\, sigue apostando por la conciliación ofreciendo actividades en las que peques y jóvenes se divierten y disfrutan aprendiendo y conociendo. Así\, los próximos domingos\, habrá distintas actividades en horarios de mañana y de tarde: \nDOMINGOS RECICLANDO Y JUGANDO \n\n\nDe 12 a 15h\, en los polideportivos de Figaredo\, Ujo\, Turón\, Rioturbio y en el patio del colegio Liceo en Mieres\, se realizarán diferentes talleres y habrá zona de hinchables\, todo ello para niñas y niños de 6 a 14 años. ¡No faltéis! \nY por las tardes… DEPORTES PARA DESCUBRIR (busca la info en nuestra agenda de actividades) \n\nATENCIÓN:\nLos hinchables son una actividad complementaria a los distintos talleres que se celebrarán\, en los que se utilizan materiales y utensilios que pueden ser difíciles de manejar para menores de 6 años. No obstante los niños y niñas de 4 a 6 años podrán acceder a los hinchables en las ubicaciones en las que estén colocados cada domingo\, en los tiempos y grupos que las personas cuidadoras así lo establezcan\, de manera que todas y todos puedan disfrutar de la actividad. \nEstos hinchables se colocarán en las distintas ubicaciones conforme al siguiente calendario: \n\n15 de mayo: Turón\, Ujo\, Figaredo y Rioturbio.\n22 de mayo: Mieres\, Turón\, Ujo y Rioturbio.\n29 de mayo: Mieres.\n5 de junio: Turón Ujo y Figaredo.
URL:https://www.mieres.es/evento/domingos-reciclando-y-jugando-4/
LOCATION:Varios espacios\, Mieres\, Asturias\, 33600 
CATEGORIES:Actividades,Igualdad,Taller
ATTACH;FMTTYPE=image/jpeg:https://www.mieres.es/wp-content/uploads/2022/05/Domingos-reciclando-y-jugando-cartel.jpeg
GEO:43.2491037;-5.7747551
END:VEVENT
BEGIN:VEVENT
DTSTART;TZID=Europe/Madrid:20220605T160000
DTEND;TZID=Europe/Madrid:20220605T200000
DTSTAMP:20260423T125934
CREATED:20220512T095241Z
LAST-MODIFIED:20220512T095241Z
UID:53664-1654444800-1654459200@www.mieres.es
SUMMARY:Deportes para descubrir: Baloncesto
DESCRIPTION: \nDEPORTES PARA DESCUBRIR:\nBALONCESTO\nDe 16:00 a 20.00h\, en el Patio del Colegio Santiago Apóstol -Mieres- \nImparte: Baloncesto Villa de Mieres \n  \nParticipación libre y gratuita. No es necesario inscribirse. \n\n\nLa concejalía de Igualdad y Feminismo del Ayuntamiento de Mieres\, dentro del Plan Corresponsables\, sigue apostando por la conciliación ofreciendo actividades en las que peques y jóvenes se divierten y disfrutan aprendiendo y conociendo. Así\, los próximos domingos\, habrá distintas actividades en horarios de mañana y de tarde: \n\nDEPORTES PARA DESCUBRIR \n\nUna iniciativa para conocer diferentes deportes que se practican y enseñan en nuestro concejo. Para ello\, niños y niñas de 6 a 14 años pueden acudir a estas citas\, en horario de 16 a 20 horas. Cada domingo\, un deporte y una ubicación diferente\, con merienda y regalo incluido en estas tardes deportivas y divertidas. Toma nota: \n15 de mayo: BALONMANO\nPolideportivo de Turón\n22 de mayo: HOCKEY\nPabellón Visiola Rollán\n29 de mayo: TENIS\nLa Riquela (Turón)\n5 de junio: BALONCESTO\nPatio Santiago Apóstol\n12 de junio: BOLOS ASTURIANOS\nBolera municipal Polígono Vega de Arriba \nY por las mañanas… DOMINGOS RECICLANDO Y JUGANDO (busca la info en nuestra agenda de actividades)
URL:https://www.mieres.es/evento/deportes-para-descubrir-baloncesto/
LOCATION:Polideportivo de Turón\, Plaza El Parque\, La Veguina\, Turón\, Asturias\, 33610
CATEGORIES:Actividades,Igualdad,Taller
ATTACH;FMTTYPE=image/jpeg:https://www.mieres.es/wp-content/uploads/2022/05/deportes-para-descubrir-cartel.jpeg
END:VEVENT
END:VCALENDAR