BEGIN:VCALENDAR
VERSION:2.0
PRODID:-//Ayuntamiento de Mieres - ECPv5.16.1.1//NONSGML v1.0//EN
CALSCALE:GREGORIAN
METHOD:PUBLISH
X-WR-CALNAME:Ayuntamiento de Mieres
X-ORIGINAL-URL:https://www.mieres.es
X-WR-CALDESC:Eventos para Ayuntamiento de Mieres
BEGIN:VTIMEZONE
TZID:Europe/Madrid
BEGIN:DAYLIGHT
TZOFFSETFROM:+0100
TZOFFSETTO:+0200
TZNAME:CEST
DTSTART:20220327T010000
END:DAYLIGHT
BEGIN:STANDARD
TZOFFSETFROM:+0200
TZOFFSETTO:+0100
TZNAME:CET
DTSTART:20221030T010000
END:STANDARD
END:VTIMEZONE
BEGIN:VEVENT
DTSTART;TZID=Europe/Madrid:20220615T163000
DTEND;TZID=Europe/Madrid:20220615T163000
DTSTAMP:20260423T130051
CREATED:20220611T090541Z
LAST-MODIFIED:20220614T131848Z
UID:54143-1655310600-1655310600@www.mieres.es
SUMMARY:Taller de Robótica y Drones. Cuentacuentos LEGO
DESCRIPTION: \nTALLER DE ROBÓTICA\, PROGRAMACIÓN Y DRONES\ny\n“CUENTA CUENTOS LEGO”\, UN CUENTACUENTOS DIFERENTE…\nInscripciones gratuitas a partir del 13 de junio (12:00h) \nATENCIÓN el jueves día 15\, a las 12:00\, los formularios de inscripción volverán a abrirse para acoger las plazas que no han quedado vacantes tras las llamadas de confirmación realizadas tras cubrirse todas las ofertadas. Han quedado vacantes y se ofrecerán las siguientes plazas:\nTaller Robótica Mieres: 3 plazas\nTaller Robótica Turón: 0 plazas COMPLETO\nCuentacuentos LEGO Mieres: 2 plazas\nCuentacuentos LEGO Turón: 8 plazas\n  \nEnlaces directos a los formularios de inscripción:\nTaller Robótica Mieres: https://forms.gle/a3grrNh5MhiCzR32A\nTaller Robótica Turón: https://forms.gle/pdNEvLFBjQjGnUz57 \nCuentacuentos LEGO Mieres: https://forms.gle/GWWvkVgGmLi4dB8k6\nCuentacuentos LEGO Turón: https://forms.gle/YmgR2JmeDpH1zG5T6 \n  \n\n\nTALLER PARA PEQUES: “CUENTA CUENTOS LEGO”\, UN CUENTACUENTOS DIFERENTE….. \nTALLER MAYORES: “ TALLER DE ROBÓTICA Y DRONES” \n  \nMIERES: \nFecha: lunes 20 y martes 21 \nLugar: Casa de las Mujeres \nHorario: 4.30 a 5.30 (pequeños\, de 4 a 6 años) el primer taller y de 5.30 a 7.30 ( de 6 a 14 años) \nPlazas: 15 para pequeños y 15 para mayores. \n  \nTURÓN: \nFecha: miércoles 15 y viernes 17. \nLugar: Ateneo \nHorario: 4.30 a 5.30 (pequeños de 4 a 6 años) y de 5.30 a 7.30 (de 6 a 14 años) \nPlazas: 12 para pequeños y 12 para mayores. \n 
URL:https://www.mieres.es/evento/taller-de-robotica-y-drones-cuentacuentos-lego-turon/
LOCATION:Atenéu de Turón\, Calle Centro\, 9\, 33610 Mieres\, Asturias\, Turón\, Asturias\, 33610 \, España
CATEGORIES:Actividades,Igualdad,Taller
ATTACH;FMTTYPE=image/jpeg:https://www.mieres.es/wp-content/uploads/2022/06/Cartel-Taller-de-Robotica-2022-ok-1.jpg
GEO:43.2091303;-5.7416142
X-APPLE-STRUCTURED-LOCATION;VALUE=URI;X-ADDRESS=Atenéu de Turón Calle Centro 9 33610 Mieres Asturias Turón Asturias 33610  España;X-APPLE-RADIUS=500;X-TITLE=Calle Centro\, 9\, 33610 Mieres\, Asturias:geo:-5.7416142,43.2091303
END:VEVENT
END:VCALENDAR