BEGIN:VCALENDAR
VERSION:2.0
PRODID:-//Ayuntamiento de Mieres - ECPv5.16.1.1//NONSGML v1.0//EN
CALSCALE:GREGORIAN
METHOD:PUBLISH
X-WR-CALNAME:Ayuntamiento de Mieres
X-ORIGINAL-URL:https://www.mieres.es
X-WR-CALDESC:Eventos para Ayuntamiento de Mieres
BEGIN:VTIMEZONE
TZID:Europe/Madrid
BEGIN:DAYLIGHT
TZOFFSETFROM:+0100
TZOFFSETTO:+0200
TZNAME:CEST
DTSTART:20220327T010000
END:DAYLIGHT
BEGIN:STANDARD
TZOFFSETFROM:+0200
TZOFFSETTO:+0100
TZNAME:CET
DTSTART:20221030T010000
END:STANDARD
END:VTIMEZONE
BEGIN:VEVENT
DTSTART;TZID=Europe/Madrid:20220816T100000
DTEND;TZID=Europe/Madrid:20220816T100000
DTSTAMP:20260423T101821
CREATED:20220805T114049Z
LAST-MODIFIED:20220805T114049Z
UID:58506-1660644000-1660644000@www.mieres.es
SUMMARY:Taller de Robótica. 1er grupo (16/30AGO)
DESCRIPTION: \nTALLER DE ROBÓTICA\nColegio Santiago Apóstol\nMartes miércoles y viernes de 10:00 a 13:00h. \nPara niños/as de 5 a 16 años. 26 plazas por grupo. \n1er grupo\nDías\, 16\, 17\, 19\, 23\, 24\, 26 y 30 de agosto\n(21 horas) \n2º grupo\nDías 31 de agosto y 1\, 2\, 5\, 6\, 7 y 9 de septiembre\n(21 horas) \n  \nInscripciones gratuitas por orden de recepción a partir del 8 de agosto (10:00h) a través de los formularios web que le ofrecemos más abajo. \nEnlaces directos a los formularios de inscripción:\nTaller Robótica 1er grupo(agosto): https://forms.gle/K8pQu4CJnjEGtuRx7\nTaller Robótica 2º grupo (septiembre): https://forms.gle/gvz6ea5h3qae7dqu5 \nATENCIÓN: Solo es posible inscribirse en uno de los grupos. Se anularán las inscripciones realizadas por duplicado. \n\n\nCONTENIDOS: \n\nMontajes de robótica\nManejo y programaciónde drones\nRealidad virtual\nPista de carreras robotizadas\nLucha de robots (battlebots)\nPens 3D\nMinecraft\nLasertag\n\n\n\n\nCargando…
URL:https://www.mieres.es/evento/taller-de-robotica-1er-grupo-16-30ago/
LOCATION:Colegio Santiago Apóstol\, C. Numa Guilhou\, 36\, 33600 Mieres\, Asturias\, Mieres\, 33600
CATEGORIES:Actividades,Igualdad,Taller
ATTACH;FMTTYPE=image/jpeg:https://www.mieres.es/wp-content/uploads/2022/08/Cartel-Taller-de-Robotica-Verano2022.jpg
END:VEVENT
END:VCALENDAR