BEGIN:VCALENDAR
VERSION:2.0
PRODID:-//Ayuntamiento de Mieres - ECPv5.16.1.1//NONSGML v1.0//EN
CALSCALE:GREGORIAN
METHOD:PUBLISH
X-WR-CALNAME:Ayuntamiento de Mieres
X-ORIGINAL-URL:https://www.mieres.es
X-WR-CALDESC:Eventos para Ayuntamiento de Mieres
BEGIN:VTIMEZONE
TZID:Europe/Madrid
BEGIN:DAYLIGHT
TZOFFSETFROM:+0100
TZOFFSETTO:+0200
TZNAME:CEST
DTSTART:20220327T010000
END:DAYLIGHT
BEGIN:STANDARD
TZOFFSETFROM:+0200
TZOFFSETTO:+0100
TZNAME:CET
DTSTART:20221030T010000
END:STANDARD
END:VTIMEZONE
BEGIN:VEVENT
DTSTART;TZID=Europe/Madrid:20221115T180000
DTEND;TZID=Europe/Madrid:20221115T180000
DTSTAMP:20260423T055945
CREATED:20221102T161455Z
LAST-MODIFIED:20221102T161455Z
UID:59668-1668535200-1668535200@www.mieres.es
SUMMARY:Jornadas 25N. Taller de autodefensa femenina (15NOV/2DIC)
DESCRIPTION:JORNADAS 25N 2022\n\nTaller de autodefensa femenina\nLOS MARTES 15\, 22 Y 29 Y LOS VIERNES 18\, 25 DE NOVIEMBRE Y EL 2 DE DICIEMBRE\nDE 18:00 A 20:00h. EN LA CASA DE LA JUVENTUD DE TURÓN \nINSCRIPCIONES GRATUITAS HASTA EL 11 DE NOVIEMBRE DE 2022\na través del teléfono 984.18.29.06 -de 9 a 14h.- Casa de las Mujeres de Mieres \n  \n\n  \nActividad financiada con cargo a los créditos del Pacto de Estado contra la violencia de género\, recibidos del Ministerio de la Presidencia\, Relaciones con las Cortes e Igualdad\, a través de la Secretaría de Estado
URL:https://www.mieres.es/evento/jornadas-25n-taller-de-autodefensa-femenina-15nov-2dic/
LOCATION:Casa de la Juventud -Turón-\, C/ El Parque s/n\, Turón\, Asturias\, 33610
CATEGORIES:Exposiciones,Igualdad,Taller
ATTACH;FMTTYPE=image/jpeg:https://www.mieres.es/wp-content/uploads/2022/03/CARTEL-defensa-personal-femenina-2022-TURON-1200.jpg
END:VEVENT
END:VCALENDAR