BEGIN:VCALENDAR
VERSION:2.0
PRODID:-//Ayuntamiento de Mieres - ECPv5.16.1.1//NONSGML v1.0//EN
CALSCALE:GREGORIAN
METHOD:PUBLISH
X-WR-CALNAME:Ayuntamiento de Mieres
X-ORIGINAL-URL:https://www.mieres.es
X-WR-CALDESC:Eventos para Ayuntamiento de Mieres
BEGIN:VTIMEZONE
TZID:Europe/Madrid
BEGIN:DAYLIGHT
TZOFFSETFROM:+0100
TZOFFSETTO:+0200
TZNAME:CEST
DTSTART:20230326T010000
END:DAYLIGHT
BEGIN:STANDARD
TZOFFSETFROM:+0200
TZOFFSETTO:+0100
TZNAME:CET
DTSTART:20231029T010000
END:STANDARD
END:VTIMEZONE
BEGIN:VEVENT
DTSTART;TZID=Europe/Madrid:20230331T100000
DTEND;TZID=Europe/Madrid:20230331T140000
DTSTAMP:20260422T224428
CREATED:20230303T111939Z
LAST-MODIFIED:20230303T113448Z
UID:61624-1680256800-1680271200@www.mieres.es
SUMMARY:"Esencia Artesana" en Mieres. Día Europeo de la Artesanía. Talleres artesanos: fieltro y cuero
DESCRIPTION:“Esencia Artesana” en Mieres\nDía Europeo de la Artesanía\nTALLER ARTESANO DE CUERO\nTALLER ARTESANO DE FIELTRO\n  \n31 de marzo de 2023\, de 10:00 a 14:00h.\nExterior de la Plaza del Mercado de Mieres (en caso de lluvia se trasladará a la Casa de las Mujeres C/ Jerónimo Ibrán) \nInscripciones gratuitas (limitadas a 10 personas\, por orden de recepción)\, a través de los formularios online que encontrarán al final de esta misma página:\nTaller cuero: https://forms.gle/pPtyQ3ZmLmZuDbtu8\nTaller fieltro: https://forms.gle/iNesQz9cjCAkkkJB6 \nOrganizado por Mercado Artesano y Ecológico \n\n  \nEsencia Artesana es un evento de carácter festivo y divulgativo con el que la Asociación Cultural Mercado Ecológico y Artesano pretende promover y acercar la Artesanía de Asturias\, invitando a la ciudadanía a celebrar la gran fiesta europea de la Artesanía. \nEn 2023 celebra su quinta edición\, del 25 de marzo al 2 de abril\, con un amplio programa de actividades que incluye talleres de oficios artesanos\, exposiciones y visitas guiadas en 26 sedes de 16 concejos asturianos: Gijón\, Oviedo\, Avilés\, Grado\, Mieres\, Llanes\, Quirós\, Somiedo\, Ribadedeva\, Langreo\, Cabrales\, Candamo\, Las Regueras\, Piloña\, Villaviciosa y Colunga. \nEsencia Artesana nace en 2018 bajo el paraguas de los Días Europeos de la Artesanía (DEA). Una celebración simultánea en una veintena de países europeos para acercar al público el mundo artesano\, los secretos de sus oficios y difundir su riqueza\, diversidad y singularidad. \n  \n\n\n\n\n\n\n\n\n\n\n\n\n\n\n\n\n\n“Taller de cuero” |  Artesano/a: Esther Martínez Cañadell\nDuración: 4 horas\nPlazas disponibles por curso: 10\nParticipantes: A partir de 12 años (menores de 15 años acompañados de un adulto) \nDescripción del taller:\nEn este taller se elaborarán varias piezas:\n• Una pulsera combinando técnicas de cosido y trenzado. A partir de una plantilla de la pulsera se corta la pieza de cuero y con tiras de 5mm se hace la trenza de 6 cabos que adornará la pulsera.\n• Dos modelos de llavero\, uno con la técnica de mojado\, modelado y teñido y el otro con cosido en cruz. El primero consiste en una libélula de tres piezas a las que se le dan forma con buriles. El segundo está formado por dos piezas en forma de corazón y un relleno de fibra de algodón. Cada participante se llevará a casa las creaciones realizadas. \n\n\n\n\n\n\n\n\n\n\n\n\n\n\n\n\n\n\n\n\n\n\n“Taller de fieltro” |  Artesano/a: NAMIKO / Eva Forcelledo\nDuración: 4 horas\nPlazas disponibles por curso: 10\nParticipantes: A partir de 12 años (menores de 15 años acompañados de un adulto) \nDescripción del taller:\nEl taller comienza con una pequeña introducción explicativa de la técnica del fieltrado de lana con aguja\, cuáles son los materiales y herramientas que se van a utilizar y qué piezas se van a elaborar.\nIniciaremos la práctica elaborando una pieza de decoración con ayuda de un molde para familiarizarse con las agujas. La pieza creada se podrá usar como imán.\nA continuación\, se realizará una pieza de mayor volumen y sin ayuda de plantilla. Aplicando la técnica aprendida elaboraremos una pequeña escultura de un pájaro \n\n\n\n\n\n\n\n\n\n \n\n\nINSCRIPCIÓN EN LOS TALLERES\n(ATENCIÓN: Solo puede realizar la inscripción en uno de ellos\, pues se realizan simultáneamente)\nCargando…\nCargando…\n\n 
URL:https://www.mieres.es/evento/esencia-artesana-en-mieres-dia-europeo-de-la-artesania-talleres-artesanos-fieltro-y-cuero/
LOCATION:Plaza de Abastos de Mieres\, plaza de Abastos y Mercado 34\, 33600\, Asturias\, Mieres\, 33600
CATEGORIES:Taller
ATTACH;FMTTYPE=image/png:https://www.mieres.es/wp-content/uploads/2023/03/esencia-artesana-cartel.png
END:VEVENT
END:VCALENDAR