BEGIN:VCALENDAR
VERSION:2.0
PRODID:-//Ayuntamiento de Mieres - ECPv5.16.1.1//NONSGML v1.0//EN
CALSCALE:GREGORIAN
METHOD:PUBLISH
X-WR-CALNAME:Ayuntamiento de Mieres
X-ORIGINAL-URL:https://www.mieres.es
X-WR-CALDESC:Eventos para Ayuntamiento de Mieres
BEGIN:VTIMEZONE
TZID:Europe/Madrid
BEGIN:DAYLIGHT
TZOFFSETFROM:+0100
TZOFFSETTO:+0200
TZNAME:CEST
DTSTART:20230326T010000
END:DAYLIGHT
BEGIN:STANDARD
TZOFFSETFROM:+0200
TZOFFSETTO:+0100
TZNAME:CET
DTSTART:20231029T010000
END:STANDARD
END:VTIMEZONE
BEGIN:VEVENT
DTSTART;TZID=Europe/Madrid:20230506T100000
DTEND;TZID=Europe/Madrid:20230506T140000
DTSTAMP:20260422T211433
CREATED:20230427T084421Z
LAST-MODIFIED:20230427T084734Z
UID:62625-1683367200-1683381600@www.mieres.es
SUMMARY:Talleres artesanos de fieltro\, cuero y lettering
DESCRIPTION:Artesanía: \nTALLER ARTESANO DE CUERO\nTALLER ARTESANO DE FIELTRO\nTALLER ARTESANO DE LETTERING\n  \nSábado\, 6 de mayo de 2023\, de 10:00 a 14:00h.\nCasa de las Mujeres (C/ Jerónimo Ibrán) \n  \nInscripciones gratuitas (limitadas a 8 personas\, por orden de recepción)\, a través de los formularios online que encontrarán al final de esta misma página:\nTaller cuero: https://forms.gle/ssgHBecghb6YZjJ99\nTaller fieltro: https://forms.gle/ERAqhHCnp6LpFHbc9\nTaller lettering: https://forms.gle/asGY1M3TLjfuVgNf9 \n  \n\nINSCRIPCIÓN EN LOS TALLERES\n(ATENCIÓN: Solo puede realizar la inscripción en uno de ellos\, pues se realizan simultáneamente)\n\n﻿Cargando…\nCargando…\nCargando… 
URL:https://www.mieres.es/evento/talleres-artesanos-de-fieltro-cuero-y-lettering/
LOCATION:Casa de las Mujeres\, C/ Jerónimo Ibrán 19\, Mieres\, Asturias\, 33600\, España
CATEGORIES:Taller
ATTACH;FMTTYPE=image/jpeg:https://www.mieres.es/wp-content/uploads/2023/04/artesanos-cartel-A3.jpg
GEO:43.2512334;-5.7731606
X-APPLE-STRUCTURED-LOCATION;VALUE=URI;X-ADDRESS=Casa de las Mujeres C/ Jerónimo Ibrán 19 Mieres Asturias 33600 España;X-APPLE-RADIUS=500;X-TITLE=C/ Jerónimo Ibrán 19:geo:-5.7731606,43.2512334
END:VEVENT
END:VCALENDAR