BEGIN:VCALENDAR
VERSION:2.0
PRODID:-//Ayuntamiento de Mieres - ECPv5.16.1.1//NONSGML v1.0//EN
CALSCALE:GREGORIAN
METHOD:PUBLISH
X-WR-CALNAME:Ayuntamiento de Mieres
X-ORIGINAL-URL:https://www.mieres.es
X-WR-CALDESC:Eventos para Ayuntamiento de Mieres
BEGIN:VTIMEZONE
TZID:Europe/Madrid
BEGIN:DAYLIGHT
TZOFFSETFROM:+0100
TZOFFSETTO:+0200
TZNAME:CEST
DTSTART:20230326T010000
END:DAYLIGHT
BEGIN:STANDARD
TZOFFSETFROM:+0200
TZOFFSETTO:+0100
TZNAME:CET
DTSTART:20231029T010000
END:STANDARD
END:VTIMEZONE
BEGIN:VEVENT
DTSTART;TZID=Europe/Madrid:20231003T170000
DTEND;TZID=Europe/Madrid:20231003T170000
DTSTAMP:20260422T133833
CREATED:20230801T102858Z
LAST-MODIFIED:20230801T102858Z
UID:64018-1696352400-1696352400@www.mieres.es
SUMMARY:Falamos. Cursu semipresencial gratuitu d'Asturianu Edición 2023
DESCRIPTION: \nCursu semipresencial gratuitu d’Asturianu\nFALAMOS\n42 hores: 20h presenciales y 22h en llínia\nClases presenciales en 8 xornaes\, los martes de 17:00 a 19:30h.\nnel Aula Grande de la Casa de Cultura Teodoro Cuesta de Mieres \nEntamu: 3 d’ochobre \nInscripciones gratuites y más información na web: www.falamos.info \n  \n\n\n  \nArranca una nueva edición del proyectu Falamos\, qu’ufierta cursos semipresenciales gratuitos d’asturianu pa la población adulto nel cuartu trimestre de 2023.\nNa páxina www.falamos.info pue consultase la información y facer la preinscripción. Si t’interesa\, solicita plaza.\nEl Cursu ye de 42 hores: 20 h presenciales y 22 h en llínia. Les clases presenciales fairánse en 8 xornaes de dos hores y media cada una\, en Mieres\, el Cursu daráse nel Aula Grande de la Casa de Cultura “Teodoro Cuesta” \, los martes de 17:00 a 19:30h. del  03/10/2023 al 28/11/2023. \nEsti proyectu ye una colaboración ente la FACC y la Dirección Xeneral de Política Llingüística del Principáu d’Asturies.\nPues topanos tamién en Twitter\, Facebook y Instagram: @falamosinfo (Falamos) \n\n  \nCONTENIDOS: \n1. Identificación personal y familia: alfabeto\, sustantivo y adjetivo\, vocalismo final\, vocabulario relacionado\, saludos\, despedidas y presentaciones\, descripción de cualidades físicas de las personas. \n2. Casa\, pueblo y ciudad (espacios y servicios): artículo y preposiciones\, apostrofación\, vocabulario relacionado\, descripción de objetos\, viviendas y lugares. \n3. Comercio y alimentación: Demostrativos\, numerales e indefinidos\, vocabulario relacionado\, costumbres y celebraciones\, expresión de gustos y preferencias \n4. El cuerpo y les emociones: Pronombres personales\, posesivos antepuestos\, acentuación\, vocabulario relacionado\, diálogos\, indicaciones y consejos \n5. Trabajo y tiempo libre: Formas verbales básicas\, vocabulario relacionado\, narración/descripción de hábitos y acontecimientos \n6. El entorno natural/El clima: Adverbios\, locuciones\, pronombres y adverbios interrogativos\, vocabulario relacionado\, petición y ofrecimiento de información sobre el tiempo\, descripción y actividades en entornos naturales \n7. Internet y medios de comunicación: Estructuras comparativas\, vocabulario relacionado\, solicitud de información formal e informal \n8. Viajes y multiculturalidad: Conectores\, vocabulario relacionado\, descripción de lugares/costumbres\, consejos para planificar un viaje \n  \nOBJETIVOS \n\n\nAl finalizar el curso de asturiano o de gallego-asturiano el alumnado será capaz de: \n– Desenvolverse de manera suficiente en situaciones cotidianas y habituales\, tanto cara a cara como a través de medios técnicos y en entornos cotidianos en los que se producen sencillos intercambios de carácter habitual. \n– Comprender\, producir\, coproducir y procesar textos orales y escritos breves que versen sobre asuntos personales y cotidianos\, y que contengan estructuras sencillas \n\n\n  \n\n\n\n\n 
URL:https://www.mieres.es/evento/falamos-cursu-semipresencial-gratuitu-dasturianu-edicion-2023/
LOCATION:Casa de Cultura Teodoro Cuesta\, Calle Manuel Llaneza\, 8\, Mieres\, Asturias\, 33600\, España
CATEGORIES:Actividades,Llingua,Taller
ATTACH;FMTTYPE=image/jpeg:https://www.mieres.es/wp-content/uploads/2023/08/CURSO-ASTURIANO-MIERES_FALAMOS-2023.jpg
GEO:43.2502294;-5.7729571
X-APPLE-STRUCTURED-LOCATION;VALUE=URI;X-ADDRESS=Casa de Cultura Teodoro Cuesta Calle Manuel Llaneza 8 Mieres Asturias 33600 España;X-APPLE-RADIUS=500;X-TITLE=Calle Manuel Llaneza\, 8:geo:-5.7729571,43.2502294
END:VEVENT
END:VCALENDAR