BEGIN:VCALENDAR
VERSION:2.0
PRODID:-//Ayuntamiento de Mieres - ECPv5.16.1.1//NONSGML v1.0//EN
CALSCALE:GREGORIAN
METHOD:PUBLISH
X-WR-CALNAME:Ayuntamiento de Mieres
X-ORIGINAL-URL:https://www.mieres.es
X-WR-CALDESC:Eventos para Ayuntamiento de Mieres
BEGIN:VTIMEZONE
TZID:Europe/Madrid
BEGIN:DAYLIGHT
TZOFFSETFROM:+0100
TZOFFSETTO:+0200
TZNAME:CEST
DTSTART:20240331T010000
END:DAYLIGHT
BEGIN:STANDARD
TZOFFSETFROM:+0200
TZOFFSETTO:+0100
TZNAME:CET
DTSTART:20241027T010000
END:STANDARD
END:VTIMEZONE
BEGIN:VEVENT
DTSTART;TZID=Europe/Madrid:20240131T113000
DTEND;TZID=Europe/Madrid:20240131T113000
DTSTAMP:20260422T073525
CREATED:20240109T140257Z
LAST-MODIFIED:20240109T140257Z
UID:66646-1706700600-1706700600@www.mieres.es
SUMMARY:Taller conversacional "Vecinas de Mieres"
DESCRIPTION:Taller Conversacional\n“Vecinas de Mieres”\nMiércoles\, 31 de enero\, 11:30h\nCasa de las Mujeres \nInscripciones gratuitas a través del tfno. 985 466 111 o bien presencialmente en la propia Casa de las Mujeres \n\n  \nCon el paso del tiempo y de las generaciones parece que vamos perdiendo conexiones con las personas que nos rodean. El ritmo de vida\, el trabajo\, las responsabilidades o nuestros propios problemas diarios son algunas razones que han contribuido a que cada vez nos encontremos más solas\, a pesar de que nunca en la historia habíamos podido estar más conectadas gracias a la tecnología. Cada vez la soledad está ganando más protagonismo en nuestras vidas\, convirtiéndose en un problema real que afecta a nuestro bienestar y calidad de vida. \nEs por esto que queremos lanzar la iniciativa “Vecinas de Mieres”\, un taller conversacional que permita a las mujeres conocerse e ir creando poco a poco una comunidad donde apoyarse y dejar atrás la soledad. Lo único que se necesita es tener ganas de conocer gente\, muchas anécdotas que contar y opiniones que compartir. Queremos crear un espacio que permita a las mujeres mayores de 50 años que por diferentes motivos de la vida han quedado en una situación de soledad\, conocerse y tener un espacio para poder hablar con otras personas que se encuentren en una situación similar y\, de esta forma\, luchar contra la soledad. \nEstáis invitadas el miércoles 31 de enero a las 11:30h en la Casa de las Mujeres para formar parte de esta iniciativa. Apuntaros telefónicamente a través del número 985 466 111 o bien acercaros a las Casa de las Mujeres para registraros presencialmente. ¡Os esperamos! \n  \n\n  \n 
URL:https://www.mieres.es/evento/taller-conversacional-vecinas-de-mieres/
LOCATION:Casa de las Mujeres\, C/ Jerónimo Ibrán 19\, Mieres\, Asturias\, 33600\, España
CATEGORIES:Igualdad,Taller
ATTACH;FMTTYPE=image/jpeg:https://www.mieres.es/wp-content/uploads/2024/01/Cartel-taller-conversacional-enero-2024-scaled.jpg
GEO:43.2512334;-5.7731606
X-APPLE-STRUCTURED-LOCATION;VALUE=URI;X-ADDRESS=Casa de las Mujeres C/ Jerónimo Ibrán 19 Mieres Asturias 33600 España;X-APPLE-RADIUS=500;X-TITLE=C/ Jerónimo Ibrán 19:geo:-5.7731606,43.2512334
END:VEVENT
BEGIN:VEVENT
DTSTART;TZID=Europe/Madrid:20240131T183000
DTEND;TZID=Europe/Madrid:20240131T183000
DTSTAMP:20260422T073525
CREATED:20240122T121730Z
LAST-MODIFIED:20240122T121730Z
UID:66909-1706725800-1706725800@www.mieres.es
SUMMARY:Talleres infantiles de Cocina y Nutrición: "Los cereales"
DESCRIPTION:Talleres infantiles de Cocina y Nutrición\n“Los Cereales”\nImpartido por ALADANZA \nMiércoles\, 31 de enero\, 18:30 a 20.00h\nAulas Casa de Cultura Teodoro Cuesta \nInscripciones gratuitas en el tfno. 985452745\, de 9 a 14h. \n\n  \nCada día el protagonista será un grupo de alimentos indispensable para una alimentación equilibrada: las frutas\, las verduras\, los cereales y los lácteos. Y además de conocer sus propiedades nutritivas\, se vincularán con otras disciplinas como la cultura tradicional\, la historia o la ciencia. \nEl número de participantes es de 12 niños/as que se dividirán en dos grupos en función de la edad y a acordar con la entidad organizadora. Los contenidos y la metodología se adaptarán a cada grupo de edad. \nTodas las actividades incluyen la degustación de alimentos que incluyen alérgenos por lo que es importante conocer previamente las alergias e intolerancias alimentarias de los y las menores participantes. \n  \nHoy: LOS CEREALES \nLos cereales son otro de los grupos de alimentos indispensables por su alto contenido en nutrientes. Son además un gran fuente de energía de larga duración. \nEn esta actividad se distinguirán los diferentes cereales\, especialmente los que se vienen sembrando tradicionalmente en Asturias\, resaltando el importante papel que tuvo el maíz y conociendo las manifestaciones culturales alrededor suyo. \nLa teoría se complementará con la elaboración práctica de tortos de maíz que los niños y niñas amasarán y prepararán para tostarlos después a la plancha y degustar acompañados de alimentos como hortalizas\, queso o miel con el objetivo de que los niños y niñas se animen a probar otros sabores a los que en ocasiones no están habituados/as. \n  \nObjetivos \n\nReconocer la importancia de una alimentación equilibrada.\nPromover el consumo de alimentos saludables.\nAprender a elaborar alimentos.\nConocer la cultura del maíz en Asturias.\nExperimentar con alimentos alcalinos y ácidos.\nDescubrir los inicios y la evolución de nuestra alimentación actual.\nAsegurar un equilibrio adecuado entre el componente educativo y el ocio.\nDar rienda suelta a la sensorialidad y a la creatividad.\nFavorecer la imaginación\, el interés y la curiosidad.\n\n\n  \n 
URL:https://www.mieres.es/evento/talleres-infantiles-de-cocina-y-nutricion-los-cereales/
LOCATION:Casa de Cultura Teodoro Cuesta\, Calle Manuel Llaneza\, 8\, Mieres\, Asturias\, 33600\, España
CATEGORIES:Igualdad,Salud,Taller
ATTACH;FMTTYPE=image/jpeg:https://www.mieres.es/wp-content/uploads/2024/01/Taller-infantil-cocina-y-nutricion.jpeg
GEO:43.2502294;-5.7729571
X-APPLE-STRUCTURED-LOCATION;VALUE=URI;X-ADDRESS=Casa de Cultura Teodoro Cuesta Calle Manuel Llaneza 8 Mieres Asturias 33600 España;X-APPLE-RADIUS=500;X-TITLE=Calle Manuel Llaneza\, 8:geo:-5.7729571,43.2502294
END:VEVENT
END:VCALENDAR