BEGIN:VCALENDAR
VERSION:2.0
PRODID:-//Ayuntamiento de Mieres - ECPv5.16.1.1//NONSGML v1.0//EN
CALSCALE:GREGORIAN
METHOD:PUBLISH
X-WR-CALNAME:Ayuntamiento de Mieres
X-ORIGINAL-URL:https://www.mieres.es
X-WR-CALDESC:Eventos para Ayuntamiento de Mieres
BEGIN:VTIMEZONE
TZID:Europe/Madrid
BEGIN:DAYLIGHT
TZOFFSETFROM:+0100
TZOFFSETTO:+0200
TZNAME:CEST
DTSTART:20240331T010000
END:DAYLIGHT
BEGIN:STANDARD
TZOFFSETFROM:+0200
TZOFFSETTO:+0100
TZNAME:CET
DTSTART:20241027T010000
END:STANDARD
END:VTIMEZONE
BEGIN:VEVENT
DTSTART;TZID=Europe/Madrid:20241104T160000
DTEND;TZID=Europe/Madrid:20241104T183000
DTSTAMP:20260421T183928
CREATED:20240806T114134Z
LAST-MODIFIED:20240806T114504Z
UID:70083-1730736000-1730745000@www.mieres.es
SUMMARY:Falamos. Cursu semipresencial gratuitu d'Asturianu Edición 2024
DESCRIPTION: \nCursu semipresencial gratuitu d’Asturianu\nFALAMOS\nNivel Intermediu\n42 hores: 20h presenciales y 22h en llínia\nClases presenciales en 8 xornaes\, los llunes de 16:00 a 18:30h.\nnel Aula Grande de la Casa de Cultura Teodoro Cuesta de Mieres \nEntamu: 23 de setiembre \nInscripciones gratuites (n’orde d’inscripción) y más información na web: www.falamos.info \n  \n\n\n  \nArranca una nueva edición del proyectu Falamos\, qu’ufierta cursos semipresenciales gratuitos d’asturianu pa la población adulto nel cuartu trimestre de 2024.\nNa páxina www.falamos.info pue consultase la información y facer la preinscripción. Si t’interesa\, solicita plaza.\nEl Cursu ye de 42 hores: 20 h presenciales y 22 h en llínia. Les clases presenciales fairánse en 8 xornaes de dos hores y media cada una\, en Mieres\, el Cursu daráse nel Aula Grande de la Casa de Cultura “Teodoro Cuesta” \, los lunes de 16:00 a 18:30h. del  03/10/2023 al 28/11/2023. \nEsti proyectu ye una colaboración ente la FACC y la Dirección Xeneral de Política Llingüística del Principáu d’Asturies\, enxunto con la Conceyalía de Normalización Llingüística del Ayuntamiento de Mieres. \n\n  \nPROGRAMA: \n1. Asturies\, destín turísticu: L’artículu y contracciones. La negación. \n2. Mercando y fartucando: Sustantivu y axetivu. \n3. Mar y monte: Pronomes personales. Interrogativos\, esclamativos y relativos. \n4. Músiques y lletres: Indefiníos\, demostrativos y numberales. Preposiciones. \n5. Faciendo deporte: Posesivos. \n6. De folixa: El verbu. \n7. Medios y redes: Alverbiu y locuciones alverbiales. \n8. Llingua y empresa: La oración subordinada: conxunciones y conectores. \n 
URL:https://www.mieres.es/evento/falamos-cursu-semipresencial-gratuitu-dasturianu-edicion-2024/2024-11-04/
LOCATION:Casa de Cultura Teodoro Cuesta\, Calle Manuel Llaneza\, 8\, Mieres\, Asturias\, 33600\, España
CATEGORIES:Actividades,Llingua,Taller
ATTACH;FMTTYPE=image/jpeg:https://www.mieres.es/wp-content/uploads/2024/08/cursu-intermediu-asturianu-Mieres-cartel-web.jpg
GEO:43.2502294;-5.7729571
X-APPLE-STRUCTURED-LOCATION;VALUE=URI;X-ADDRESS=Casa de Cultura Teodoro Cuesta Calle Manuel Llaneza 8 Mieres Asturias 33600 España;X-APPLE-RADIUS=500;X-TITLE=Calle Manuel Llaneza\, 8:geo:-5.7729571,43.2502294
END:VEVENT
BEGIN:VEVENT
DTSTART;TZID=Europe/Madrid:20241104T170000
DTEND;TZID=Europe/Madrid:20241104T170000
DTSTAMP:20260421T183928
CREATED:20241023T075811Z
LAST-MODIFIED:20241023T075811Z
UID:71298-1730739600-1730739600@www.mieres.es
SUMMARY:Encuentros "En acción contra la soledad no deseada": Merendamos jugando al parchís
DESCRIPTION:Encuentros-Talleres \n\n“En acción contra la soledad no deseada”\nMerendamos jugando al parchís\n\n  \nLunes\, 4 de noviembre\, de 17 a 18:30h. \nLocal de la Asamblea Local de Cruz Roja. C/ Ramón y Cajal\, 8 \n  \nInscripción gratuita y más información en el teléfono 985 464 000 o a través del mail: voluntariadoarea7@cruzroja.es \n(Organizado por el Centro de Voluntariado y Participación Social Área VII. Cruz Roja) \n\n  \nEl Centro de Voluntariado y Participación Social del Área VII nos ofrece en esta ocasión una actividad dirigida a la lucha contra la soledad no deseada que sufren tantas personas de nuestra Área. El grupo que se va formando quien decide qué tipo de labor realizan en la siguiente sesión\, en esta ocasión será dedicada a “Merendamos jugando al parchís”. \nEl único requisito en estas actividades es ser mayor de edad. La inscripción es gratuita y las plazas son limitadas. \nLa soledad hace que tengamos cuatro veces más riesgo de sufrir enfermedades cardiovasculares\, tengamos menos capacidad de afrontar enfermedades comunes y aumente el riesgo de muerte prematura\, entre muchas otras…. Por ello es tan importante continuar “En acción contra la Soledad No Deseada”. \n\n 
URL:https://www.mieres.es/evento/encuentros-en-accion-contra-la-soledad-no-deseada-merendamos-jugando-al-parchis/
LOCATION:Asamblea Local Cruz Roja Mieres\, Calle Ramón y Cajal 8\, Mieres\, Asturias\, 33600
CATEGORIES:Salud,Taller
ATTACH;FMTTYPE=image/jpeg:https://www.mieres.es/wp-content/uploads/2024/10/Cartel-soledadnodeseada_Parchis-nov2024.jpg
GEO:43.2481344;-5.7720056
X-APPLE-STRUCTURED-LOCATION;VALUE=URI;X-ADDRESS=Asamblea Local Cruz Roja Mieres Calle Ramón y Cajal 8 Mieres Asturias 33600;X-APPLE-RADIUS=500;X-TITLE=Calle Ramón y Cajal 8:geo:-5.7720056,43.2481344
END:VEVENT
END:VCALENDAR