BEGIN:VCALENDAR
VERSION:2.0
PRODID:-//Ayuntamiento de Mieres - ECPv5.16.1.1//NONSGML v1.0//EN
CALSCALE:GREGORIAN
METHOD:PUBLISH
X-WR-CALNAME:Ayuntamiento de Mieres
X-ORIGINAL-URL:https://www.mieres.es
X-WR-CALDESC:Eventos para Ayuntamiento de Mieres
BEGIN:VTIMEZONE
TZID:Europe/Madrid
BEGIN:DAYLIGHT
TZOFFSETFROM:+0100
TZOFFSETTO:+0200
TZNAME:CEST
DTSTART:20240331T010000
END:DAYLIGHT
BEGIN:STANDARD
TZOFFSETFROM:+0200
TZOFFSETTO:+0100
TZNAME:CET
DTSTART:20241027T010000
END:STANDARD
END:VTIMEZONE
BEGIN:VEVENT
DTSTART;TZID=Europe/Madrid:20241116T103000
DTEND;TZID=Europe/Madrid:20241116T103000
DTSTAMP:20260421T184419
CREATED:20241030T112118Z
LAST-MODIFIED:20241104T121151Z
UID:71523-1731753000-1731753000@www.mieres.es
SUMMARY:Jornadas 25N. Charla-taller: “Homenaje a la vagina”\, con Aida Lana
DESCRIPTION:JORNADAS 25N 2024\nCharla-taller:\n “Homenaje a la vagina”\ncon Aida Lana\nSábado\, 16 de noviembre\, 12:00h\nCasa de las Mujeres \n\n  \nCreación de una broche vulva con arcilla polimérica.\nDos turnos de 10:30 a 12:00 y de 12:30 a 14:00\nNecesaria inscripción\, en el teléfono 985 45 27 45 de 9 a 14\, desde el lunes 4 de noviembre. \n  \n\nActividad financiada con cargo a los créditos del Pacto de Estado contra la violencia de género\, recibidos del Ministerio de la Presidencia\, Relaciones con las Cortes e Igualdad\, a través de la Secretaría de Estado \n\n  \n \n 
URL:https://www.mieres.es/evento/jornadas-25n-charla-taller-homenaje-a-la-vagina-con-aida-lana/
LOCATION:Casa de las Mujeres\, C/ Jerónimo Ibrán 19\, Mieres\, Asturias\, 33600\, España
CATEGORIES:Charlas-coloquio,Igualdad,Taller
ATTACH;FMTTYPE=image/jpeg:https://www.mieres.es/wp-content/uploads/2024/10/16N-Charla-homenaje-vagina.jpg
GEO:43.2512334;-5.7731606
X-APPLE-STRUCTURED-LOCATION;VALUE=URI;X-ADDRESS=Casa de las Mujeres C/ Jerónimo Ibrán 19 Mieres Asturias 33600 España;X-APPLE-RADIUS=500;X-TITLE=C/ Jerónimo Ibrán 19:geo:-5.7731606,43.2512334
END:VEVENT
END:VCALENDAR