BEGIN:VCALENDAR
VERSION:2.0
PRODID:-//Ayuntamiento de Mieres - ECPv5.16.1.1//NONSGML v1.0//EN
CALSCALE:GREGORIAN
METHOD:PUBLISH
X-WR-CALNAME:Ayuntamiento de Mieres
X-ORIGINAL-URL:https://www.mieres.es
X-WR-CALDESC:Eventos para Ayuntamiento de Mieres
BEGIN:VTIMEZONE
TZID:Europe/Madrid
BEGIN:DAYLIGHT
TZOFFSETFROM:+0100
TZOFFSETTO:+0200
TZNAME:CEST
DTSTART:20240331T010000
END:DAYLIGHT
BEGIN:STANDARD
TZOFFSETFROM:+0200
TZOFFSETTO:+0100
TZNAME:CET
DTSTART:20241027T010000
END:STANDARD
END:VTIMEZONE
BEGIN:VEVENT
DTSTART;TZID=Europe/Madrid:20241120T163000
DTEND;TZID=Europe/Madrid:20241120T183000
DTSTAMP:20260421T184420
CREATED:20241029T132517Z
LAST-MODIFIED:20241029T132517Z
UID:71482-1732120200-1732127400@www.mieres.es
SUMMARY:Curso de Cestería
DESCRIPTION:Curso \nCurso de Cestería\nRecuperando las tradiciones\n  \nTodos los miércoles\, a partir del 6 de noviembre\, en horario de 16:30 a 18:30h \nLocal de la Asamblea Local de Cruz Roja Mieres. \n  \nInscripción gratuita a través del formulario online del enlace: https://forms.office.com/e/56q5kbhPC1 \n  \nMás información en el teléfono 985 464 000 o a través del mail: voluntariadoarea7@cruzroja.es \n(Organizado por el Centro de Voluntariado y Participación Social Área VII. Cruz Roja) \n\n  \nContinuamos en nuestra lucha contra la soledad no deseada\, y en esta ocasión os presentamos el nuevo curso que vamos a tener todos los miércoles\, a partir del 6 de noviembre\, en horario de 16:30 a 18:30h en la Asamblea Local de Cruz Roja Mieres. \n¡¡¡¡ CURSO DE CESTERÍA!!!!\, que mejor forma para recuperar tradiciones y pasar un rato entretenido. \nGratuito\, abierto a cualquier persona y con plazas limitadas\, así que NO DUDES Y APÚNTATE YA!! \n  \n\n 
URL:https://www.mieres.es/evento/curso-de-cesteria/2024-11-20/
LOCATION:Asamblea Local Cruz Roja Mieres\, Calle Ramón y Cajal 8\, Mieres\, Asturias\, 33600
CATEGORIES:Cursos,Taller
ATTACH;FMTTYPE=image/jpeg:https://www.mieres.es/wp-content/uploads/2024/10/Curso-cesteria-Cruz-Roja-Mieres-2024.jpg
GEO:43.2481344;-5.7720056
X-APPLE-STRUCTURED-LOCATION;VALUE=URI;X-ADDRESS=Asamblea Local Cruz Roja Mieres Calle Ramón y Cajal 8 Mieres Asturias 33600;X-APPLE-RADIUS=500;X-TITLE=Calle Ramón y Cajal 8:geo:-5.7720056,43.2481344
END:VEVENT
END:VCALENDAR