BEGIN:VCALENDAR
VERSION:2.0
PRODID:-//Ayuntamiento de Mieres - ECPv5.16.1.1//NONSGML v1.0//EN
CALSCALE:GREGORIAN
METHOD:PUBLISH
X-WR-CALNAME:Ayuntamiento de Mieres
X-ORIGINAL-URL:https://www.mieres.es
X-WR-CALDESC:Eventos para Ayuntamiento de Mieres
BEGIN:VTIMEZONE
TZID:Europe/Madrid
BEGIN:DAYLIGHT
TZOFFSETFROM:+0100
TZOFFSETTO:+0200
TZNAME:CEST
DTSTART:20250330T010000
END:DAYLIGHT
BEGIN:STANDARD
TZOFFSETFROM:+0200
TZOFFSETTO:+0100
TZNAME:CET
DTSTART:20251026T010000
END:STANDARD
END:VTIMEZONE
BEGIN:VEVENT
DTSTART;TZID=Europe/Madrid:20250103T170000
DTEND;TZID=Europe/Madrid:20250103T170000
DTSTAMP:20260421T154405
CREATED:20241223T103458Z
LAST-MODIFIED:20241223T103709Z
UID:72314-1735923600-1735923600@www.mieres.es
SUMMARY:Taller infantil de sacos navideños personalizados. Feria Navidá 2024
DESCRIPTION:Feria Navidá de Artesanía y Comerciu 2024 \nTaller infantil de sacos navideños personalizados\n  \nViernes 3 de enero\, de 17:00 a 20:00h.\nConcha del Parque Xovellanos \nActividad gratuita. Limitada a 15 participantes en turnos de media hora.\nSesiones a las 17:00\, 18:00 y 19:00h\nInscripciones en los formularios ofrecidos en esta misma página web. Solo pueden inscribirse en una de las horas convocadas. \n\n  \n¡Crea un recuerdo único y especial estas fiestas! El próximo 3 de enero\, en el Mercadillo de Navidad del Parque Jovellanos de Mieres\, te invitamos a participar en nuestro Taller de Sacos Navideños personalizados con el nombre de los niños y niñas que asistan. \n🕒 Horarios: \n\nPrimer turno: 17:00 h\nSegundo turno: 18:00 h\nTercer turno: 19:00 h\n\n✨ Los sacos serán confeccionados con materiales reutilizados\, fomentando la creatividad y el respeto por el medio ambiente con ayuda de La Caravana Kazabasuras. \n👨‍👩‍👧‍👦 Importante: Las familias acompañantes deberán permanecer durante toda la actividad. \n¡No te quedes sin tu plaza! Ven a disfrutar\, aprender y llevarte a casa un saco navideño único. 🎁 \n#NavidadMieres #TalleresCreativos #SacosNavideños \n  \n\n﻿Cargando… \nCargando… \nCargando… \n  \n \nHORARIOS:\nAbierto de 11:00 a 15:00h. y de 16:00 a 21:00h.\nDías 24 y 31 de diciembre de 11:00 a 15:00h. y de 16:00 a 19:00h\nMañanas del día 25 de diciembre y día 1 de Enero: Cerrado\nClausura a las 22:00h del día 5 de enero \n  \nACTIVIDADES Y TALLERES: \n\n21 de diciembre. Taller de Pirograbado\, de 12:00 a 14:00h. 4 participantes en turnos de media hora. Inscripciones en este enlace.\n22 de diciembre. L’Anguleru visita Mieres\, en la Plaza del Ayuntamiento\, de 18:30 a 20:30h.\n23 de diciembre. Papá Noel y elfo en la concha del parque Xovellanos\, de 17:00 a 20:00h.\n28 de diciembre. Taller de Carvado y Estampación\, de 12:00 a 14:00h. 4 participantes en turnos de media hora. Inscripciones en este enlace.\n29 de diciembre. La Super Noche pirata. Nochevieja Infantil\, en la plaza del Ayuntamiento\, de 17:30 a 20:00h.\n4 de enero. Príncipe Aliatar y paje real\, en la concha del parque Xovellanos\, de 17:00 a 20:00h.
URL:https://www.mieres.es/evento/taller-infantil-de-sacos-navidenos-personalizados-feria-navida-2024/
LOCATION:Parque Xovellanos\, Parque Xovellanos\, Mieres\, Asturias\, 33600 
CATEGORIES:Festejos,Taller
ATTACH;FMTTYPE=image/jpeg:https://www.mieres.es/wp-content/uploads/2024/12/navidad-2024-taller-de-sacos.jpg
GEO:43.2517322;-5.7764018
X-APPLE-STRUCTURED-LOCATION;VALUE=URI;X-ADDRESS=Parque Xovellanos Parque Xovellanos Mieres Asturias 33600;X-APPLE-RADIUS=500;X-TITLE=Parque Xovellanos:geo:-5.7764018,43.2517322
END:VEVENT
END:VCALENDAR