BEGIN:VCALENDAR
VERSION:2.0
PRODID:-//Ayuntamiento de Mieres - ECPv5.16.1.1//NONSGML v1.0//EN
CALSCALE:GREGORIAN
METHOD:PUBLISH
X-WR-CALNAME:Ayuntamiento de Mieres
X-ORIGINAL-URL:https://www.mieres.es
X-WR-CALDESC:Eventos para Ayuntamiento de Mieres
BEGIN:VTIMEZONE
TZID:Europe/Madrid
BEGIN:DAYLIGHT
TZOFFSETFROM:+0100
TZOFFSETTO:+0200
TZNAME:CEST
DTSTART:20250330T010000
END:DAYLIGHT
BEGIN:STANDARD
TZOFFSETFROM:+0200
TZOFFSETTO:+0100
TZNAME:CET
DTSTART:20251026T010000
END:STANDARD
END:VTIMEZONE
BEGIN:VEVENT
DTSTART;TZID=Europe/Madrid:20250120T103000
DTEND;TZID=Europe/Madrid:20250120T103000
DTSTAMP:20260421T154334
CREATED:20250114T112327Z
LAST-MODIFIED:20250114T112327Z
UID:72472-1737369000-1737369000@www.mieres.es
SUMMARY:Encuentros "En acción contra la soledad no deseada": Decoración de tejas
DESCRIPTION:Encuentros-Talleres \n\n“En acción contra la soledad no deseada”\nDecoración de tejas\n\n  \nLunes\, 20 de enero\, 10:30h. \nLocal de la Asamblea Local de Cruz Roja. C/ Ramón y Cajal\, 8 \n  \nInscripción gratuita y más información en el teléfono 985 464 000 o a través del mail: lilian.blanco@cruzroja.es \n(Organizado por el Centro de Voluntariado y Participación Social Área VII. Cruz Roja) \n\n  \nEl Centro de Voluntariado y Participación Social del Área VII comienza en el año retomando una de las actividades más demandadas en 2024\, como han sido aquellas enmarcadas dentro del ciclo “En acción contra la Soledad No Deseada”\, en las que el año pasado han participado más de 70 personas. El propio grupo que se va formando decide qué tipo de labor realizarán en la siguiente sesión\, en esta ocasión será dedicada a “Decoración de tejas”. \nEl único requisito en estas actividades es ser mayor de edad. La inscripción es gratuita y las plazas son limitadas. \nLa soledad hace que tengamos cuatro veces más riesgo de sufrir enfermedades cardiovasculares\, tengamos menos capacidad de afrontar enfermedades comunes y aumente el riesgo de muerte prematura\, entre muchas otras…. Por ello es tan importante continuar “En acción contra la Soledad No Deseada”. \n\n 
URL:https://www.mieres.es/evento/encuentros-en-accion-contra-la-soledad-no-deseada-decoracion-de-tejas/
LOCATION:Asamblea Local Cruz Roja Mieres\, Calle Ramón y Cajal 8\, Mieres\, Asturias\, 33600
CATEGORIES:Salud,Taller
ATTACH;FMTTYPE=image/jpeg:https://www.mieres.es/wp-content/uploads/2025/01/La-soledad-no-deseada-enero-2025-Decoracion_tejas.jpg
GEO:43.2481344;-5.7720056
X-APPLE-STRUCTURED-LOCATION;VALUE=URI;X-ADDRESS=Asamblea Local Cruz Roja Mieres Calle Ramón y Cajal 8 Mieres Asturias 33600;X-APPLE-RADIUS=500;X-TITLE=Calle Ramón y Cajal 8:geo:-5.7720056,43.2481344
END:VEVENT
END:VCALENDAR