BEGIN:VCALENDAR
VERSION:2.0
PRODID:-//Ayuntamiento de Mieres - ECPv5.16.1.1//NONSGML v1.0//EN
CALSCALE:GREGORIAN
METHOD:PUBLISH
X-WR-CALNAME:Ayuntamiento de Mieres
X-ORIGINAL-URL:https://www.mieres.es
X-WR-CALDESC:Eventos para Ayuntamiento de Mieres
BEGIN:VTIMEZONE
TZID:Europe/Madrid
BEGIN:DAYLIGHT
TZOFFSETFROM:+0100
TZOFFSETTO:+0200
TZNAME:CEST
DTSTART:20250330T010000
END:DAYLIGHT
BEGIN:STANDARD
TZOFFSETFROM:+0200
TZOFFSETTO:+0100
TZNAME:CET
DTSTART:20251026T010000
END:STANDARD
END:VTIMEZONE
BEGIN:VEVENT
DTSTART;TZID=Europe/Madrid:20250302T110000
DTEND;TZID=Europe/Madrid:20250302T110000
DTSTAMP:20260421T104829
CREATED:20250225T102815Z
LAST-MODIFIED:20250225T122825Z
UID:72957-1740913200-1740913200@www.mieres.es
SUMMARY:Jornadas 8M. Taller de diademas: "Preparándonos para el 8M"
DESCRIPTION:JORNADAS 8M 2025\nTaller\nTaller de diademas: “Preparándonos para el 8M”\nDomingo\, 2 de marzo. Casa de las Mujeres\nDos turnos: \n\n11:00- 12:30 h\n12:30 – 14:00 h\n\nGrupos limitados. Necesaria inscripción (gratuita) en el mail oij@ayto-mieres.es desde el sábado 22 de febrero. Se confirmará la plaza por teléfono el viernes 28. \n\n\nEn el taller se realizarán diademas con consignas feministas para apoyar la reivindicación de nuestros derechos. \n 
URL:https://www.mieres.es/evento/jornadas-8m-taller-de-diademas-preparandonos-para-el-8m/
LOCATION:Casa de las Mujeres\, C/ Jerónimo Ibrán 19\, Mieres\, Asturias\, 33600\, España
CATEGORIES:Igualdad,Taller
ATTACH;FMTTYPE=image/jpeg:https://www.mieres.es/wp-content/uploads/2025/02/2M-diademas-ultimo.jpg
GEO:43.2512334;-5.7731606
X-APPLE-STRUCTURED-LOCATION;VALUE=URI;X-ADDRESS=Casa de las Mujeres C/ Jerónimo Ibrán 19 Mieres Asturias 33600 España;X-APPLE-RADIUS=500;X-TITLE=C/ Jerónimo Ibrán 19:geo:-5.7731606,43.2512334
END:VEVENT
END:VCALENDAR