BEGIN:VCALENDAR
VERSION:2.0
PRODID:-//Ayuntamiento de Mieres - ECPv5.16.1.1//NONSGML v1.0//EN
CALSCALE:GREGORIAN
METHOD:PUBLISH
X-WR-CALNAME:Ayuntamiento de Mieres
X-ORIGINAL-URL:https://www.mieres.es
X-WR-CALDESC:Eventos para Ayuntamiento de Mieres
BEGIN:VTIMEZONE
TZID:Europe/Madrid
BEGIN:DAYLIGHT
TZOFFSETFROM:+0100
TZOFFSETTO:+0200
TZNAME:CEST
DTSTART:20250330T010000
END:DAYLIGHT
BEGIN:STANDARD
TZOFFSETFROM:+0200
TZOFFSETTO:+0100
TZNAME:CET
DTSTART:20251026T010000
END:STANDARD
END:VTIMEZONE
BEGIN:VEVENT
DTSTART;TZID=Europe/Madrid:20250311T160000
DTEND;TZID=Europe/Madrid:20250311T160000
DTSTAMP:20260421T121045
CREATED:20250226T133057Z
LAST-MODIFIED:20250226T133057Z
UID:73013-1741708800-1741708800@www.mieres.es
SUMMARY:Taller de escritura con pluma
DESCRIPTION:Encuentros-Talleres \n\nTaller de escritura con pluma\nRecuperando las tradiciones\n\n  \nMartes 11 y martes 18 de marzo de 2025\nDe 16:00 a 20:00h. \nLocal de la Asamblea Local de Cruz Roja. C/ Ramón y Cajal\, 8 \n  \nPlazas limitadas. Inscripción gratuita y más información en el teléfono 985 464 000 o a través del mail: lilian.blanco@cruzroja.es o del formulario https://forms.office.com/e/y9AJ0JTKqa \n(Organizado por el Centro de Voluntariado y Participación Social Área VII. Cruz Roja y Centros de Voluntariado Voluntastur.org) \n\n  \nSiente la emoción de escribir con pluma estilográfica de la mano de Asturias Caligrafía\, que nos acompañan una vez más\, para pasar dos tardes entretenidas y con mucho mimo.\nTodos los materiales necesarios están incluidos.\n\n\n\n 
URL:https://www.mieres.es/evento/taller-de-escritura-con-pluma/
LOCATION:Asamblea Local Cruz Roja Mieres\, Calle Ramón y Cajal 8\, Mieres\, Asturias\, 33600
CATEGORIES:Salud,Taller
ATTACH;FMTTYPE=image/jpeg:https://www.mieres.es/wp-content/uploads/2025/02/Escritura_pluma-crus-roja-juventud-mieres.jpg
GEO:43.2481344;-5.7720056
X-APPLE-STRUCTURED-LOCATION;VALUE=URI;X-ADDRESS=Asamblea Local Cruz Roja Mieres Calle Ramón y Cajal 8 Mieres Asturias 33600;X-APPLE-RADIUS=500;X-TITLE=Calle Ramón y Cajal 8:geo:-5.7720056,43.2481344
END:VEVENT
BEGIN:VEVENT
DTSTART;TZID=Europe/Madrid:20250311T180000
DTEND;TZID=Europe/Madrid:20250311T180000
DTSTAMP:20260421T121045
CREATED:20250225T130025Z
LAST-MODIFIED:20250225T131105Z
UID:72978-1741716000-1741716000@www.mieres.es
SUMMARY:Jornadas 8M. Charla-Coloquio "Cortar no es Cultura"
DESCRIPTION:JORNADAS 8M 2025\nCharla-coloquio\n“Cortar no es Cultura”\nMutilación genital femenina\nA cargo del Grupo de Participación adolescente \nMartes\, 11 de marzo. 18:00h. \nSalón de actos de la Casa de Cultura Teodoro Cuesta\nEntrada libre hasta completar aforo \n\n 
URL:https://www.mieres.es/evento/jornadas-8m-charla-coloquio-cortar-no-es-cultura/
LOCATION:Casa de Cultura Teodoro Cuesta\, Calle Manuel Llaneza\, 8\, Mieres\, Asturias\, 33600\, España
CATEGORIES:Charlas-coloquio,Igualdad,Taller
ATTACH;FMTTYPE=image/jpeg:https://www.mieres.es/wp-content/uploads/2025/02/11M-cortar-no-es-cultura.jpg
GEO:43.2502294;-5.7729571
X-APPLE-STRUCTURED-LOCATION;VALUE=URI;X-ADDRESS=Casa de Cultura Teodoro Cuesta Calle Manuel Llaneza 8 Mieres Asturias 33600 España;X-APPLE-RADIUS=500;X-TITLE=Calle Manuel Llaneza\, 8:geo:-5.7729571,43.2502294
END:VEVENT
END:VCALENDAR