BEGIN:VCALENDAR
VERSION:2.0
PRODID:-//Ayuntamiento de Mieres - ECPv5.16.1.1//NONSGML v1.0//EN
CALSCALE:GREGORIAN
METHOD:PUBLISH
X-WR-CALNAME:Ayuntamiento de Mieres
X-ORIGINAL-URL:https://www.mieres.es
X-WR-CALDESC:Eventos para Ayuntamiento de Mieres
BEGIN:VTIMEZONE
TZID:Europe/Madrid
BEGIN:DAYLIGHT
TZOFFSETFROM:+0100
TZOFFSETTO:+0200
TZNAME:CEST
DTSTART:20250330T010000
END:DAYLIGHT
BEGIN:STANDARD
TZOFFSETFROM:+0200
TZOFFSETTO:+0100
TZNAME:CET
DTSTART:20251026T010000
END:STANDARD
END:VTIMEZONE
BEGIN:VEVENT
DTSTART;TZID=Europe/Madrid:20250314T190000
DTEND;TZID=Europe/Madrid:20250314T190000
DTSTAMP:20260421T140328
CREATED:20250226T093410Z
LAST-MODIFIED:20250226T101203Z
UID:73003-1741978800-1741978800@www.mieres.es
SUMMARY:Jornadas 8M. Presentación del libro "Anita Sirgo. Instinto de clase"\, de Rubén Vega y Héctor González
DESCRIPTION:  \n \n\nJORNADAS 8M 2025\nPresentación del libro\n“Anita Sirgo. Instinto de clase”\nde Rubén Vega y Héctor González\n  \nViernes\, 14 de marzo. 19:00h. \nSalón de actos de la Casa de Cultura Teodoro Cuesta\nEntrada libre hasta completar aforo \nFundación Juan Muñoz Zapico \n\n  \nAnita Sirgo se hizo\, junto a Constantina Pérez\, mundialmente famosa en 1963\, cuando su nombre circuló en un manifiesto de intelectuales que denunciaba las torturas perpetradas en el transcurso de la huelga minera de ese año. Aquel sería\, no obstante\, tan solo uno de los episodios\, entre muchos\, que jalonan su vida militante. \nNiña de la guerra evacuada a Cataluña en 1937 y acogida tras el final de la contienda por unos parientes\, mientras su padre permanecía en el monte y su madre en un campo de concentración\, la dura supervivencia la privó de escuela y la hizo desempeñar múltiples trabajos. Involucrada desde muy joven en el apoyo a los guerrilleros\, comparte luego militancia comunista con su marido\, Alfonso Braña. \nMuy activa en el apoyo a huelgas\, la recogida de solidaridad con represaliados y todo tipo de movilizaciones\, durante la dictadura formó parte de piquetes de mujeres\, recogió víveres y ayudas para presos políticos\, deportados y despedidos\, se entrevistó con autoridades civiles y eclesiásticas\, recogió firmas por la amnistía\, se encerró en la catedral de Oviedo y en el Palacio Arzobispal\, repartió propaganda\, acogió dirigentes clandestinos en su casa. Fue torturada y rapada durante la huelga de 1963. Sufrió prisión y pasó algún tiempo exiliada\, siempre para reincorporarse de inmediato a la lucha. \nHasta el final de su vida siguió militando en las mismas causas y también en el impulso de la memoria democrática. Paralelamente\, el paso del tiempo la ha erigido en un referente de compromiso\, lucha y dignidad para las nuevas generaciones de militantes comunistas\, pero también y en buena medida\, del feminismo asturiano\, que en los últimos años ha integrado la tradición obrera que representa Anita en su agenda reivindicativa. \n 
URL:https://www.mieres.es/evento/jornadas-8m-presentacion-del-libro-anita-sirgo-instinto-de-clase-de-ruben-vega-y-hector-gonzalez/
LOCATION:Casa de Cultura Teodoro Cuesta\, Calle Manuel Llaneza\, 8\, Mieres\, Asturias\, 33600\, España
CATEGORIES:Igualdad,Taller
ATTACH;FMTTYPE=image/jpeg:https://www.mieres.es/wp-content/uploads/2025/02/MIERES_ANITA-SIRGO-scaled.jpg
GEO:43.2502294;-5.7729571
X-APPLE-STRUCTURED-LOCATION;VALUE=URI;X-ADDRESS=Casa de Cultura Teodoro Cuesta Calle Manuel Llaneza 8 Mieres Asturias 33600 España;X-APPLE-RADIUS=500;X-TITLE=Calle Manuel Llaneza\, 8:geo:-5.7729571,43.2502294
END:VEVENT
END:VCALENDAR