BEGIN:VCALENDAR
VERSION:2.0
PRODID:-//Ayuntamiento de Mieres - ECPv5.16.1.1//NONSGML v1.0//EN
CALSCALE:GREGORIAN
METHOD:PUBLISH
X-WR-CALNAME:Ayuntamiento de Mieres
X-ORIGINAL-URL:https://www.mieres.es
X-WR-CALDESC:Eventos para Ayuntamiento de Mieres
BEGIN:VTIMEZONE
TZID:Europe/Madrid
BEGIN:DAYLIGHT
TZOFFSETFROM:+0100
TZOFFSETTO:+0200
TZNAME:CEST
DTSTART:20210328T010000
END:DAYLIGHT
BEGIN:STANDARD
TZOFFSETFROM:+0200
TZOFFSETTO:+0100
TZNAME:CET
DTSTART:20211031T010000
END:STANDARD
END:VTIMEZONE
BEGIN:VEVENT
DTSTART;TZID=Europe/Madrid:20211016T120000
DTEND;TZID=Europe/Madrid:20211016T120000
DTSTAMP:20260424T193325
CREATED:20210928T093629Z
LAST-MODIFIED:20210928T093629Z
UID:49522-1634385600-1634385600@www.mieres.es
SUMMARY:Episodios gastronómicos: 3er. Episodio\, 'Cuna y Cenera'
DESCRIPTION:RUTES CULTURALES 2021\nEPISODIOS GASTRONÓMICOS\nTercer Episodio: CUNA Y CENERA\n\nSalida: Plaza del Ayuntamiento de Mieres\nComienzo: 12:00h\nImporte: 15€\nPlazas: 25 \nInscripciones gratuitas\, siendo necesaria su reserva previa en la Oficina Municipal de Turismo o en el teléfono 985450533 \n\n  \nLa naturaleza en estado puro\, La romería\, El ascenso a los cielos bajo la perspectiva de la devoción gastronómica. Una excursión en forma de ritual con presencia de sidra\, tortos y ragú de ternera. Un recorrido apasionante por espacios singulares\, unos repletos de historia y otros rebosantes de historias que vamos a desgustar en pequeños bocados. \n  \nEPISODIOS GASTRONÓMICOS 2021\nEl Ayuntamiento de Mieres\, a través de las concejalías de Cultura y Turismo\, pone en marcha durante este mes de octubre los Episodios Gastronómicos del concejo de Mieres\, una serie de rutas por distintos puntos y zonas del concejo en los que se aúna cultura\, historia y gastronomía permitiendo la posibilidad de recorrer el concejo parando a degustar productos y platos en puntos muy simbólicos y emblemáticos del municipio. \nUnos Episodios Gastronómicos que arrancan el sábado 2 de octubre con el episodio de Mieres y que finalizarán el 23 de octubre con el Valle de Turón\, pasando el día 9 por Baíña y Uxo y el 16 por Cuna y Cenera. Aventuras gastronómicas enmarcadas dentro de las rutas temáticas que estas concejalías han organizado durante todo el verano con el objetivo de promocionar y dar a conocer el patrimonio del concejo. Unas rutas que han cosechado un gran éxito y que culminan con estas citas con lo mejor de nuestra gastronomía\, dando protagonismo al legado de las guisanderas\, los embutidos de Turón\, el chocolate de Uxo o la casadiella del Valle de Cuna\, por poner solo algunos ejemplos de lo que las y los participantes se encontrarán en estas citas para descubrir y redescubrir el concejo a través de sus sabores más característicos. \n  \n\n  \n \n\n  \nRUTES CULTURALES 2021\nEste año\, Mieres ofrece 17 rutas culturales con una gran variedad de temáticas: desde itinerarios que dan a conocer tanto el patrimonio industrial como el natural de Mieres hasta rutas gastronómicas que nos permiten conocer los sabores del concejo\, así como otras que nos hablan del contexto histórico-social o incluso de su historial criminal. Incluye\, además\, una gastrovelada en la que podremos disfrutar de una experiencia tecno-emocional que combina vanguardia y tradición. \n\n  \n 
URL:https://www.mieres.es/evento/episodios-gastronomicos-3er-episodio-cuna-y-cenera/
LOCATION:Plaza del Ayuntamiento\, Plaza de la Constitución s/n\, Mieres\, 33600
CATEGORIES:Gastronomía,Patrimonio,Ruta Cultural,Turismo
ATTACH;FMTTYPE=image/jpeg:https://www.mieres.es/wp-content/uploads/2021/07/portada-rutes-culturales-2021.jpg
GEO:43.2489616;-5.7726903
X-APPLE-STRUCTURED-LOCATION;VALUE=URI;X-ADDRESS=Plaza del Ayuntamiento Plaza de la Constitución s/n Mieres 33600;X-APPLE-RADIUS=500;X-TITLE=Plaza de la Constitución s/n:geo:-5.7726903,43.2489616
END:VEVENT
END:VCALENDAR