BEGIN:VCALENDAR
VERSION:2.0
PRODID:-//Ayuntamiento de Mieres - ECPv5.16.1.1//NONSGML v1.0//EN
CALSCALE:GREGORIAN
METHOD:PUBLISH
X-WR-CALNAME:Ayuntamiento de Mieres
X-ORIGINAL-URL:https://www.mieres.es
X-WR-CALDESC:Eventos para Ayuntamiento de Mieres
BEGIN:VTIMEZONE
TZID:Europe/Madrid
BEGIN:DAYLIGHT
TZOFFSETFROM:+0100
TZOFFSETTO:+0200
TZNAME:CEST
DTSTART:20220327T010000
END:DAYLIGHT
BEGIN:STANDARD
TZOFFSETFROM:+0200
TZOFFSETTO:+0100
TZNAME:CET
DTSTART:20221030T010000
END:STANDARD
END:VTIMEZONE
BEGIN:VEVENT
DTSTART;TZID=Europe/Madrid:20220702T100000
DTEND;TZID=Europe/Madrid:20220702T140000
DTSTAMP:20260424T063503
CREATED:20220627T073747Z
LAST-MODIFIED:20220627T123451Z
UID:57950-1656756000-1656770400@www.mieres.es
SUMMARY:Rutes Turístiques 2022: "La senda que nos une: Bustiello-Grameo"\, por Asociación La Pudinga
DESCRIPTION:RUTES TURÍSTIQUES 2022\n\nLA SENDA QUE NOS UNE: BUSTIELLO-GRAMEO\npor Asociación la Pudinga\nItinerario: Santa Cruz – Mina Dos Amigos – Bustiello – Grameo \nSábado 2 de julio \nDuración aproximada: 3 horas\nDistancia aproximada: 5000m\nDificultad: media\nSalida: 10:00h\, Plaza del Ayuntamiento (en bus hasta Santa Cruz\, Las Colominas).\nRegreso: 14:00\, Plaza del Ayuntamiento (en bus\, desde Grameo)\nAforo: 20 personas \nSe recomienda llevar calzado de montaña o playeros fuertes. \n  \nInscripciones gratuitas a través del formulario online disponible a partir del martes 28 de junio en esta misma web\, más abajo. Facilitamos también el acceso directo al formulario: https://forms.gle/1VCLytGVpb9s5ai67 \nEn caso de duda\, pueden dirigirse a la Oficina de Turismo de Mieres/Casa de Cultura de Mieres\, en la calle Manuel Llaneza\, 8. Tfno. 985450533 \n\n  \nCon esta ruta se pretende dar a conocer la importancia de los vínculos que desde sus inicios unieron a los pueblos de Bustiello y Grameo. También queremos mostrar a través de los vestigios aún vigentes la actividad minera en esta zona\, explicando el proceso para bajar el carbón de la montaña. \n  \n\n \n  \n\nRutes Turístiques 2022\nUn año más\, desde el Ayuntamiento de Mieres ofrecemos a toda la ciudadanía un conjunto de rutas que\, durante el verano\, amplían las visitas guiadas a nuestros equipamientos turísticos. A través de itinerarios de muy diversa índole queremos dar a conocer nuestra historia\, patrimonio\, fiestas\, gastronomía o naturaleza. Y lo que es más importante\, con la participación no solamente de profesionales\, sino también del tejido asociativo y empresarial del concejo; una forma\, sin duda\, de hacer comunidad. Porque “Mieres va prestate”. \n\n  \n \n\nCargando…  \n 
URL:https://www.mieres.es/evento/rutes-turistiques-2022-la-senda-que-nos-une-bustiello-grameo-asociacion-la-pudinga/
LOCATION:Plaza del Ayuntamiento\, Plaza de la Constitución s/n\, Mieres\, 33600
CATEGORIES:Patrimonio,Ruta Cultural,Ruta Turística,Turismo
ATTACH;FMTTYPE=image/jpeg:https://www.mieres.es/wp-content/uploads/2022/06/banner-rutes-turistiques-2022-1200.jpg
ORGANIZER;CN="Concejal%C3%ADa%20de%20Turismo":MAILTO:turismo@ayto-mieres.es
GEO:43.2489616;-5.7726903
X-APPLE-STRUCTURED-LOCATION;VALUE=URI;X-ADDRESS=Plaza del Ayuntamiento Plaza de la Constitución s/n Mieres 33600;X-APPLE-RADIUS=500;X-TITLE=Plaza de la Constitución s/n:geo:-5.7726903,43.2489616
END:VEVENT
END:VCALENDAR