BEGIN:VCALENDAR
VERSION:2.0
PRODID:-//Ayuntamiento de Mieres - ECPv5.16.1.1//NONSGML v1.0//EN
CALSCALE:GREGORIAN
METHOD:PUBLISH
X-WR-CALNAME:Ayuntamiento de Mieres
X-ORIGINAL-URL:https://www.mieres.es
X-WR-CALDESC:Eventos para Ayuntamiento de Mieres
BEGIN:VTIMEZONE
TZID:Europe/Madrid
BEGIN:DAYLIGHT
TZOFFSETFROM:+0100
TZOFFSETTO:+0200
TZNAME:CEST
DTSTART:20220327T010000
END:DAYLIGHT
BEGIN:STANDARD
TZOFFSETFROM:+0200
TZOFFSETTO:+0100
TZNAME:CET
DTSTART:20221030T010000
END:STANDARD
END:VTIMEZONE
BEGIN:VEVENT
DTSTART;TZID=Europe/Madrid:20220709T103000
DTEND;TZID=Europe/Madrid:20220709T150000
DTSTAMP:20260424T063557
CREATED:20220627T125233Z
LAST-MODIFIED:20220627T125649Z
UID:58032-1657362600-1657378800@www.mieres.es
SUMMARY:Rutes Turístiques 2022: "Etnografía y Religiosidad en el Valle de Cuna"\, con Roberto Álvarez Espinaredo
DESCRIPTION:RUTES TURÍSTIQUES 2022\n\nETNOGRAFÍA Y RELIGIOSIDAD: UN SANTUARIO\, HÓRREOS Y CASONAS EN EL VALLE DE CUNA\npor Roberto Álvarez Espinaredo (Pozu Espinos)\nItinerario: Casaviedra – Insierto – Cenera \nSábado 9 de julio \n  \nDuración aproximada: 3 horas y media\nDistancia aproximada: 4.000m\nDificultad: baja\nSalida: 10:30h\, Plaza del Ayuntamiento (en bus hasta Casaviedra).\nRegreso: 14:00\, Plaza del Ayuntamiento (en bus desde Cenera).\nAforo: 25 personas \nSe recomienda llevar calzado y ropa cómoda. \n  \nInscripciones gratuitas a través del formulario online disponible a partir del martes 28 de junio en esta misma web\, más abajo. Facilitamos también el acceso directo al formulario: https://forms.gle/2qT2w3vusPyjwYhq8 \nEn caso de duda\, pueden dirigirse a la Oficina de Turismo de Mieres/Casa de Cultura de Mieres\, en la calle Manuel Llaneza\, 8. Tfno. 985450533 \n\n  \nEl valle de Cuna conserva un interesante legado patrimonial que se refleja en las construcciones tradicionales y los usos populares que\, sumados a sus innegables valores naturales\, constituyen un paisaje cultural único. El santuario de los mártires\, prueba de una devoción antigua\, es un hito en su paisaje e incontestable referente monumental. \n  \n\n \n\nRutes Turístiques 2022\nUn año más\, desde el Ayuntamiento de Mieres ofrecemos a toda la ciudadanía un conjunto de rutas que\, durante el verano\, amplían las visitas guiadas a nuestros equipamientos turísticos. A través de itinerarios de muy diversa índole queremos dar a conocer nuestra historia\, patrimonio\, fiestas\, gastronomía o naturaleza. Y lo que es más importante\, con la participación no solamente de profesionales\, sino también del tejido asociativo y empresarial del concejo; una forma\, sin duda\, de hacer comunidad. Porque “Mieres va prestate”. \n\n  \n \nCargando…
URL:https://www.mieres.es/evento/rutes-turistiques-2022-etnografia-y-religiosidad-en-el-valle-de-cuna-con-roberto-alvarez-espinaredo/
LOCATION:Plaza del Ayuntamiento\, Plaza de la Constitución s/n\, Mieres\, 33600
CATEGORIES:Patrimonio,Ruta Cultural,Ruta Turística,Turismo
ATTACH;FMTTYPE=image/jpeg:https://www.mieres.es/wp-content/uploads/2022/06/banner-rutes-turistiques-2022-1200.jpg
ORGANIZER;CN="Concejal%C3%ADa%20de%20Turismo":MAILTO:turismo@ayto-mieres.es
GEO:43.2489616;-5.7726903
X-APPLE-STRUCTURED-LOCATION;VALUE=URI;X-ADDRESS=Plaza del Ayuntamiento Plaza de la Constitución s/n Mieres 33600;X-APPLE-RADIUS=500;X-TITLE=Plaza de la Constitución s/n:geo:-5.7726903,43.2489616
END:VEVENT
END:VCALENDAR