BEGIN:VCALENDAR
VERSION:2.0
PRODID:-//Ayuntamiento de Mieres - ECPv5.16.1.1//NONSGML v1.0//EN
CALSCALE:GREGORIAN
METHOD:PUBLISH
X-WR-CALNAME:Ayuntamiento de Mieres
X-ORIGINAL-URL:https://www.mieres.es
X-WR-CALDESC:Eventos para Ayuntamiento de Mieres
BEGIN:VTIMEZONE
TZID:Europe/Madrid
BEGIN:DAYLIGHT
TZOFFSETFROM:+0100
TZOFFSETTO:+0200
TZNAME:CEST
DTSTART:20220327T010000
END:DAYLIGHT
BEGIN:STANDARD
TZOFFSETFROM:+0200
TZOFFSETTO:+0100
TZNAME:CET
DTSTART:20221030T010000
END:STANDARD
END:VTIMEZONE
BEGIN:VEVENT
DTSTART;TZID=Europe/Madrid:20220711T090000
DTEND;TZID=Europe/Madrid:20220711T150000
DTSTAMP:20260424T063534
CREATED:20220708T110820Z
LAST-MODIFIED:20220711T061448Z
UID:58304-1657530000-1657551600@www.mieres.es
SUMMARY:Viaje a la Feria de Muestras de Gijón. Día de Mieres en la FIDMA'22 -Apertura plazo de inscripciones-
DESCRIPTION:  \nInscripciones gratuitas a partir del 11 de julio en la conserjería de la Casa de la Cultura Teodoro Cuesta -Mieres-. \nSALIDA: 10:00h. Parada de autobús frente al colegio Liceo/Aniceto Sela \nREGRESO: Salida de Gijón a las 20:00h. \n 
URL:https://www.mieres.es/evento/viaje-a-la-feria-de-muestras-de-gijon-dia-de-mieres-en-la-fidma22-apertura-plazo-de-inscripciones/
LOCATION:Casa de Cultura Teodoro Cuesta\, Calle Manuel Llaneza\, 8\, Mieres\, Asturias\, 33600\, España
CATEGORIES:Actividades,Turismo
ATTACH;FMTTYPE=image/jpeg:https://www.mieres.es/wp-content/uploads/2022/07/Cartel-web-viaje-feria-2022-Mieres.jpg
GEO:43.2502294;-5.7729571
X-APPLE-STRUCTURED-LOCATION;VALUE=URI;X-ADDRESS=Casa de Cultura Teodoro Cuesta Calle Manuel Llaneza 8 Mieres Asturias 33600 España;X-APPLE-RADIUS=500;X-TITLE=Calle Manuel Llaneza\, 8:geo:-5.7729571,43.2502294
END:VEVENT
END:VCALENDAR